BEGIN:VCALENDAR
VERSION:2.0
PRODID:-//Enrico Elisi - ECPv6.15.3//NONSGML v1.0//EN
CALSCALE:GREGORIAN
METHOD:PUBLISH
X-WR-CALNAME:Enrico Elisi
X-ORIGINAL-URL:https://enricoelisipiano.com
X-WR-CALDESC:Events for Enrico Elisi
REFRESH-INTERVAL;VALUE=DURATION:PT1H
X-Robots-Tag:noindex
X-PUBLISHED-TTL:PT1H
BEGIN:VTIMEZONE
TZID:UTC
BEGIN:STANDARD
TZOFFSETFROM:+0000
TZOFFSETTO:+0000
TZNAME:UTC
DTSTART:20170101T000000
END:STANDARD
END:VTIMEZONE
BEGIN:VEVENT
DTSTART;TZID=UTC:20171002T193000
DTEND;TZID=UTC:20171002T213000
DTSTAMP:20260421T155756
CREATED:20170928T091946Z
LAST-MODIFIED:20171124T204252Z
UID:230-1506972600-1506979800@enricoelisipiano.com
SUMMARY:October 2\, 2017\, Toronto\, Canada: Lecture-Recital. From Public Stage to Private Parlour: An Introduction to Rarely Performed Piano Works from Rossini’s “Years of Silence”
DESCRIPTION:$40\, $25 senior\, $10 student | Tickets available online or by phone @ www.music.utoronto.ca or 416-408-0208
URL:https://enricoelisipiano.com/event/lecture-recital-on-the-late-output-for-piano-by-g-rossini-walter-hall-university-of-toronto/
LOCATION:Walter Hall\, 80 Queen's Park\, Toronto\, ONTARIO\, M5S 2C5\, Canada
END:VEVENT
END:VCALENDAR