BEGIN:VCALENDAR
VERSION:2.0
PRODID:-//Enrico Elisi - ECPv6.15.3//NONSGML v1.0//EN
CALSCALE:GREGORIAN
METHOD:PUBLISH
X-WR-CALNAME:Enrico Elisi
X-ORIGINAL-URL:https://enricoelisipiano.com
X-WR-CALDESC:Events for Enrico Elisi
REFRESH-INTERVAL;VALUE=DURATION:PT1H
X-Robots-Tag:noindex
X-PUBLISHED-TTL:PT1H
BEGIN:VTIMEZONE
TZID:America/New_York
BEGIN:DAYLIGHT
TZOFFSETFROM:-0500
TZOFFSETTO:-0400
TZNAME:EDT
DTSTART:20200308T070000
END:DAYLIGHT
BEGIN:STANDARD
TZOFFSETFROM:-0400
TZOFFSETTO:-0500
TZNAME:EST
DTSTART:20201101T060000
END:STANDARD
END:VTIMEZONE
BEGIN:VTIMEZONE
TZID:America/Los_Angeles
BEGIN:DAYLIGHT
TZOFFSETFROM:-0800
TZOFFSETTO:-0700
TZNAME:PDT
DTSTART:20200308T100000
END:DAYLIGHT
BEGIN:STANDARD
TZOFFSETFROM:-0700
TZOFFSETTO:-0800
TZNAME:PST
DTSTART:20201101T090000
END:STANDARD
END:VTIMEZONE
BEGIN:VTIMEZONE
TZID:America/Toronto
BEGIN:DAYLIGHT
TZOFFSETFROM:-0500
TZOFFSETTO:-0400
TZNAME:EDT
DTSTART:20200308T070000
END:DAYLIGHT
BEGIN:STANDARD
TZOFFSETFROM:-0400
TZOFFSETTO:-0500
TZNAME:EST
DTSTART:20201101T060000
END:STANDARD
END:VTIMEZONE
BEGIN:VEVENT
DTSTART;TZID=America/New_York:20200301T160000
DTEND;TZID=America/New_York:20200301T173000
DTSTAMP:20260425T174940
CREATED:20200101T192158Z
LAST-MODIFIED:20200101T192009Z
UID:2121-1583078400-1583083800@enricoelisipiano.com
SUMMARY:March 1\, 2020 at 4 pm: San Francisco\, CA\, USA. Chopin's Birthday Solo Recital  for the Chopin Foundation of the USA (San Francisco Chapter)
DESCRIPTION:General Admission: $25 – Seniors (65 and over): $20 – Full-time Student w/ID: $5 – Kids under 12: FREE – $2 discount when purchased online. https://www.oldfirstconcerts.org/performance/enrico-elisi-sunday-march-1-at-4-pm \nSince its founding in 1970\, Old First Concerts has grown to be an important part of the San Francisco cultural landscape. In a beautiful historic space with excellent acoustics\, Old First Concerts presents rich and diverse high-quality concert experiences of classical music\, jazz and world music. All concerts are held at the Old First Church\, home to an affirming and welcoming congregation with a long history of social activism\, located on the corner of Sacramento Street and Van Ness Avenue in San Francisco.  Please note that Old First Concerts is a completely separate 501(c)3 organization with no religious affiliation and we strive to feature music that is welcoming and inclusive to all people regardless of their race\, culture\, gender identity\, sexuality\, age or any other identifying characteristic.
URL:https://enricoelisipiano.com/event/march-1-2020-at-4-pm-san-francisco-ca-usa-chopins-birthday-solo-recital-for-the-chopin-foundation-of-the-usa-san-francisco-chapter/
LOCATION:Old First Church\, San Francisco\, 1751 Sacramento St.\, San Francisco\, CA\, 94109\, United States
END:VEVENT
BEGIN:VEVENT
DTSTART;TZID=America/Los_Angeles:20200303T170000
DTEND;TZID=America/Los_Angeles:20200303T190000
DTSTAMP:20260425T174940
CREATED:20200126T173331Z
LAST-MODIFIED:20200126T175549Z
UID:2235-1583254800-1583262000@enricoelisipiano.com
SUMMARY:March 3\, 2020\, 5-7 pm: San Francisco\, CA\, USA. Master Class\, College Division\, San Francisco Conservatory.
DESCRIPTION:
URL:https://enricoelisipiano.com/event/march-3-2020-5-7-pm-san-francisco-ca-usa-master-class-college-division-san-francisco-conservatory/
LOCATION:San Francisco Conservatory Pre-College\, 50 Oak Street\, San Francisco\, CA\, 94102\, United States
END:VEVENT
BEGIN:VEVENT
DTSTART;VALUE=DATE:20200311
DTEND;VALUE=DATE:20200312
DTSTAMP:20260425T174940
CREATED:20190910T154731Z
LAST-MODIFIED:20190910T154731Z
UID:1996-1583884800-1583971199@enricoelisipiano.com
SUMMARY:March 11\, 2020: Toronto\, ON\, Canada. Master Class at the University of Toronto.
DESCRIPTION:4-6 pm: master class for undergraduate students \n7-9 pm: master class for graduate students \nClasses will take place in room 130 in the Edward Johnson Building.
URL:https://enricoelisipiano.com/event/march-11-2020-toronto-on-canada-master-class-at-the-university-of-toronto/
LOCATION:University of Toronto\, Faculty of Music\, 80 Queen's Park\, Toronto\, Ontario\, M5S 2C5\, Canada
END:VEVENT
BEGIN:VEVENT
DTSTART;TZID=America/Toronto:20200318T160000
DTEND;TZID=America/Toronto:20200318T180000
DTSTAMP:20260425T174940
CREATED:20200126T183558Z
LAST-MODIFIED:20200126T183742Z
UID:2244-1584547200-1584554400@enricoelisipiano.com
SUMMARY:March 18\, 2020: Toronto\, ON\, Canada. Master Class at the University of Toronto.
DESCRIPTION:The masterclass for graduate students will take place at the University of Toronto from 4 to 6 pm in the Edward Johnson Building (room 130).
URL:https://enricoelisipiano.com/event/march-18-2020-toronto-on-canada-master-class-at-the-university-of-toronto/
LOCATION:University of Toronto\, Faculty of Music\, 80 Queen's Park\, Toronto\, Ontario\, M5S 2C5\, Canada
END:VEVENT
BEGIN:VEVENT
DTSTART;VALUE=DATE:20200328
DTEND;VALUE=DATE:20200329
DTSTAMP:20260425T174940
CREATED:20190823T205558Z
LAST-MODIFIED:20200610T203527Z
UID:1940-1585353600-1585439999@enricoelisipiano.com
SUMMARY:March 28\, 2020: Markham\, ON\, Canada. Adjudication of the International Music Festival and Competition (IMFC) and Master Class. *** COMPETITION MOVED ONLINE AND MASTERCLASS POSTPONED TO 2021 DUE TO COVID-19 ***
DESCRIPTION:The competition for piano will be held for one\, two or more days during the timeframe between Mach 21 and April 5\, 2020. The schedule will be announced in March 2020. \n\nCornell Recital Hall\, Studio MP 222\nLOCATION\nCornell Recital Hall and Studio MP 222 are located on the second floor of Cornell Community Centre and Library at 3021 Bur Oak Ave. in Markham\, Ontario L6B 0R1. \nPARKING\nComplimentary multi-level outdoor parking on the west side of the Centre is available on a first-come first-served basis. To enter the parking\, take a ticket from the machine. Take the ticket with you to the Centre and validate it at the Information Desk located on the ground level\, on your out\, after the concert. \nPUBLIC TRANSPORTATION\nFrom Union Station\, take Toronto Transit Commission (TTC) Yonge subway to Finch station (last stop). \nFrom TTC Finch Subway Station\, take York Region Transit (YRT) bus VIVA-purple and disembark at Markham-Stouffville Hospital (last stop). The Centre is located 450 m (about 5 min) walking distance\, south-east of Church St. Click here for more information about YRT schedules and route navigators.
URL:https://enricoelisipiano.com/event/march-21-april-5-2020-markham-on-canada-adjudication-of-the-international-music-festival-and-competition-imfc-and-master-class/
LOCATION:Cornell Community Centre and Library\, 3021 Bur Oak Ave.\, Markham\, Ontario\, L6B 0R1\, Canada
ORGANIZER;CN="International Music Festival and Competition (IMFC)":MAILTO:office@InterMusic.ca
END:VEVENT
BEGIN:VEVENT
DTSTART;VALUE=DATE:20200330
DTEND;VALUE=DATE:20200402
DTSTAMP:20260425T174940
CREATED:20200214T181501Z
LAST-MODIFIED:20200610T203447Z
UID:2253-1585526400-1585785599@enricoelisipiano.com
SUMMARY:March 30 - April 1: Toronto\, Canada\, Adjudication of the Glenn Gould School's Chamber Music Competition.  *** EVENT IS POSTPONED TO 2021 DUE TO COVID-19 ***
DESCRIPTION:Adjudicating panel: Enrico Elisi and members of the Rolston String Quartet. \n  \nSchedule: \nMarch 30 \n9:00am – 1:40pm Chamber Competition – Preliminary Round – Mazzoleni Hall \n2:40-5:30pm – Chamber Competition – Preliminary Round cont’d \nMarch 31 \n6:00-8:00pm – GGS Chamber Social Event \nApril 1 \n7:00-10:00pm – Chamber Competition – Final Round – Koerner Hall \n10:00pm-late – Finals reception \n 
URL:https://enricoelisipiano.com/event/march-30-april-1-toronto-canada-adjudication-of-the-glenn-gould-schools-chamber-music-competition/
LOCATION:Glenn Gould School\, 273 Bloor Street West\, Toronto\, Ontario\, M5S 1W2\, Canada
ORGANIZER;CN="Glenn Gould School":MAILTO:glenngouldschool@rcmusic.ca
END:VEVENT
END:VCALENDAR