BEGIN:VCALENDAR
VERSION:2.0
PRODID:-//Enrico Elisi - ECPv6.15.3//NONSGML v1.0//EN
CALSCALE:GREGORIAN
METHOD:PUBLISH
X-ORIGINAL-URL:https://enricoelisipiano.com
X-WR-CALDESC:Events for Enrico Elisi
REFRESH-INTERVAL;VALUE=DURATION:PT1H
X-Robots-Tag:noindex
X-PUBLISHED-TTL:PT1H
BEGIN:VTIMEZONE
TZID:America/Toronto
BEGIN:DAYLIGHT
TZOFFSETFROM:-0500
TZOFFSETTO:-0400
TZNAME:EDT
DTSTART:20200308T070000
END:DAYLIGHT
BEGIN:STANDARD
TZOFFSETFROM:-0400
TZOFFSETTO:-0500
TZNAME:EST
DTSTART:20201101T060000
END:STANDARD
END:VTIMEZONE
BEGIN:VTIMEZONE
TZID:America/New_York
BEGIN:DAYLIGHT
TZOFFSETFROM:-0500
TZOFFSETTO:-0400
TZNAME:EDT
DTSTART:20200308T070000
END:DAYLIGHT
BEGIN:STANDARD
TZOFFSETFROM:-0400
TZOFFSETTO:-0500
TZNAME:EST
DTSTART:20201101T060000
END:STANDARD
END:VTIMEZONE
BEGIN:VEVENT
DTSTART;VALUE=DATE:20200627
DTEND;VALUE=DATE:20200711
DTSTAMP:20260425T092650
CREATED:20200610T210411Z
LAST-MODIFIED:20200610T213420Z
UID:2465-1593216000-1594425599@enricoelisipiano.com
SUMMARY:June 27 - July 10\, Calgary\, Canada. Adjudication of the Steinway Piano Gallery Canada Young Artist Virtual Piano Competition
DESCRIPTION:
URL:https://enricoelisipiano.com/event/june-27-july-10-calgary-canada-adjudication-of-the-steinway-piano-gallery-canada-young-artist-virtual-piano-competition/
END:VEVENT
BEGIN:VEVENT
DTSTART;VALUE=DATE:20200722
DTEND;VALUE=DATE:20200729
DTSTAMP:20260425T092650
CREATED:20191019T164637Z
LAST-MODIFIED:20200610T203126Z
UID:2044-1595376000-1595980799@enricoelisipiano.com
SUMMARY:July 22-28\, 2020: Maiori\, Italy. Residency at the Amalfi Coast Music Festival (25th Anniversary). Recital\, Master Classes and Individual Lessons.  *** EVENT IS POSTPONED TO 2021 DUE TO COVID-19 ***
DESCRIPTION:Maiori\, Amalfi Coast\nContact hsk.arioso@gmail.com for information.
URL:https://enricoelisipiano.com/event/july-26-30-2020-maiori-italy-residency-at-the-amalfi-coast-music-festival-25th-anniversary-recital-master-classes-and-individual-lessons/
LOCATION:Maiori\, Maiori\, Italy
ORGANIZER;CN="Amalfi Coast Music Festival":MAILTO:music@amalfi-festival.org
END:VEVENT
END:VCALENDAR