BEGIN:VCALENDAR
VERSION:2.0
PRODID:-//Enrico Elisi - ECPv6.15.3//NONSGML v1.0//EN
CALSCALE:GREGORIAN
METHOD:PUBLISH
X-ORIGINAL-URL:https://enricoelisipiano.com
X-WR-CALDESC:Events for Enrico Elisi
REFRESH-INTERVAL;VALUE=DURATION:PT1H
X-Robots-Tag:noindex
X-PUBLISHED-TTL:PT1H
BEGIN:VTIMEZONE
TZID:America/New_York
BEGIN:DAYLIGHT
TZOFFSETFROM:-0500
TZOFFSETTO:-0400
TZNAME:EDT
DTSTART:20200308T070000
END:DAYLIGHT
BEGIN:STANDARD
TZOFFSETFROM:-0400
TZOFFSETTO:-0500
TZNAME:EST
DTSTART:20201101T060000
END:STANDARD
END:VTIMEZONE
BEGIN:VEVENT
DTSTART;VALUE=DATE:20200802
DTEND;VALUE=DATE:20200816
DTSTAMP:20260425T073444
CREATED:20200121T172705Z
LAST-MODIFIED:20200610T203041Z
UID:2221-1596326400-1597535999@enricoelisipiano.com
SUMMARY:August 2-15: Tangshan\, China. Residency at the Elite Piano Camp (Performances\, Master Classes\, Individual Lessons)  *** EVENT IS POSTPONED TO 2021 DUE TO COVID-19 ***
DESCRIPTION:Details to be announced in the near future. \n 
URL:https://enricoelisipiano.com/event/august-2-15-tangshan-china-residency-at-the-elite-piano-camp-performances-master-classes-individual-lessons/
END:VEVENT
END:VCALENDAR