BEGIN:VCALENDAR
VERSION:2.0
PRODID:-//Enrico Elisi - ECPv6.15.3//NONSGML v1.0//EN
CALSCALE:GREGORIAN
METHOD:PUBLISH
X-WR-CALNAME:Enrico Elisi
X-ORIGINAL-URL:https://enricoelisipiano.com
X-WR-CALDESC:Events for Enrico Elisi
REFRESH-INTERVAL;VALUE=DURATION:PT1H
X-Robots-Tag:noindex
X-PUBLISHED-TTL:PT1H
BEGIN:VTIMEZONE
TZID:America/New_York
BEGIN:DAYLIGHT
TZOFFSETFROM:-0500
TZOFFSETTO:-0400
TZNAME:EDT
DTSTART:20210314T070000
END:DAYLIGHT
BEGIN:STANDARD
TZOFFSETFROM:-0400
TZOFFSETTO:-0500
TZNAME:EST
DTSTART:20211107T060000
END:STANDARD
END:VTIMEZONE
BEGIN:VEVENT
DTSTART;VALUE=DATE:20210524
DTEND;VALUE=DATE:20210528
DTSTAMP:20260424T145457
CREATED:20210512T003542Z
LAST-MODIFIED:20210512T003734Z
UID:2872-1621814400-1622159999@enricoelisipiano.com
SUMMARY:May 24-27\, 2021: Los Angeles\, CA\, USA. ArtistaCloud Master Classes Series for AC Competition Winners.
DESCRIPTION:ArtistaCloud Masterclass Roster
URL:https://enricoelisipiano.com/event/may-24-27-2021-los-angeles-ca-usa-artistacloud-master-classes-series-for-ac-competition-winners/
END:VEVENT
END:VCALENDAR