BEGIN:VCALENDAR
VERSION:2.0
PRODID:-//Enrico Elisi - ECPv6.15.3//NONSGML v1.0//EN
CALSCALE:GREGORIAN
METHOD:PUBLISH
X-WR-CALNAME:Enrico Elisi
X-ORIGINAL-URL:https://enricoelisipiano.com
X-WR-CALDESC:Events for Enrico Elisi
REFRESH-INTERVAL;VALUE=DURATION:PT1H
X-Robots-Tag:noindex
X-PUBLISHED-TTL:PT1H
BEGIN:VTIMEZONE
TZID:America/New_York
BEGIN:DAYLIGHT
TZOFFSETFROM:-0500
TZOFFSETTO:-0400
TZNAME:EDT
DTSTART:20210314T070000
END:DAYLIGHT
BEGIN:STANDARD
TZOFFSETFROM:-0400
TZOFFSETTO:-0500
TZNAME:EST
DTSTART:20211107T060000
END:STANDARD
END:VTIMEZONE
BEGIN:VEVENT
DTSTART;VALUE=DATE:20210804
DTEND;VALUE=DATE:20210811
DTSTAMP:20260424T085032
CREATED:20210520T233852Z
LAST-MODIFIED:20210706T043010Z
UID:2899-1628035200-1628639999@enricoelisipiano.com
SUMMARY:August 4-10\, 2021: Recanati\, Italy. Conero International Piano Festival and Competition. Adjudication (Finals Only)\, Workshop\, and Masterclass.
DESCRIPTION:All events will take place remotely. Click here to see the program of the 2021 festival. \nConero Pedagogy Symposium 2020\n  \n  \n  \n  \n  \n  \nMemorization and Learning\n  \n  \n  \n  \n  \n  \n  \nMemorization Workshop
URL:https://enricoelisipiano.com/event/august-4-10-2021-recanati-italy-conero-international-piano-festival-and-competition-adjudication-finals-only-workshop-and-masterclass/
LOCATION:Recanati\, Via S Stefano\, 1\, Recanati\, MC\, 62019\, Italy
END:VEVENT
BEGIN:VEVENT
DTSTART;VALUE=DATE:20210815
DTEND;VALUE=DATE:20210826
DTSTAMP:20260424T085032
CREATED:20210521T231624Z
LAST-MODIFIED:20210521T231819Z
UID:2983-1628985600-1629935999@enricoelisipiano.com
SUMMARY:August 15-25\, Adjudicating the Pacific Rim International Music Festival and Competition for Australia and New Zealand
DESCRIPTION:Visit the webpage of the competition for any details. \nPacific Rim Adjudicators 2021
URL:https://enricoelisipiano.com/event/august-15-25-pacific-rim-international-music-festival-and-competition/
END:VEVENT
END:VCALENDAR