BEGIN:VCALENDAR
VERSION:2.0
PRODID:-//Enrico Elisi - ECPv6.15.3//NONSGML v1.0//EN
CALSCALE:GREGORIAN
METHOD:PUBLISH
X-WR-CALNAME:Enrico Elisi
X-ORIGINAL-URL:https://enricoelisipiano.com
X-WR-CALDESC:Events for Enrico Elisi
REFRESH-INTERVAL;VALUE=DURATION:PT1H
X-Robots-Tag:noindex
X-PUBLISHED-TTL:PT1H
BEGIN:VTIMEZONE
TZID:America/New_York
BEGIN:DAYLIGHT
TZOFFSETFROM:-0500
TZOFFSETTO:-0400
TZNAME:EDT
DTSTART:20220313T070000
END:DAYLIGHT
BEGIN:STANDARD
TZOFFSETFROM:-0400
TZOFFSETTO:-0500
TZNAME:EST
DTSTART:20221106T060000
END:STANDARD
END:VTIMEZONE
BEGIN:VEVENT
DTSTART;VALUE=DATE:20220430
DTEND;VALUE=DATE:20220511
DTSTAMP:20260423T152525
CREATED:20220401T185207Z
LAST-MODIFIED:20220620T132010Z
UID:3320-1651276800-1652227199@enricoelisipiano.com
SUMMARY:April 30 - May 10\, Québec City: Adjudication and deliberation of the undergraduate and graduate piano recitals for the Conservatoire de musique et d'art dramatique du Québec.
DESCRIPTION:Final deliberation sessions on May 9 and 10\, 2022. \n  \n \n  \n  \n  \n  \n  \nThe Conservatoire de musique et d’art dramatique du Québec.
URL:https://enricoelisipiano.com/event/april-30-may-10-quebec-city-adjudication-and-deliberation-of-the-undergraduate-and-graduate-piano-recitals-for-the-conservatoire-de-musique-et-dart-dramatique-du-quebec/
END:VEVENT
END:VCALENDAR