BEGIN:VCALENDAR
VERSION:2.0
PRODID:-//Enrico Elisi - ECPv6.15.3//NONSGML v1.0//EN
CALSCALE:GREGORIAN
METHOD:PUBLISH
X-WR-CALNAME:Enrico Elisi
X-ORIGINAL-URL:https://enricoelisipiano.com
X-WR-CALDESC:Events for Enrico Elisi
REFRESH-INTERVAL;VALUE=DURATION:PT1H
X-Robots-Tag:noindex
X-PUBLISHED-TTL:PT1H
BEGIN:VTIMEZONE
TZID:America/New_York
BEGIN:DAYLIGHT
TZOFFSETFROM:-0500
TZOFFSETTO:-0400
TZNAME:EDT
DTSTART:20220313T070000
END:DAYLIGHT
BEGIN:STANDARD
TZOFFSETFROM:-0400
TZOFFSETTO:-0500
TZNAME:EST
DTSTART:20221106T060000
END:STANDARD
END:VTIMEZONE
BEGIN:VEVENT
DTSTART;VALUE=DATE:20220731
DTEND;VALUE=DATE:20220804
DTSTAMP:20260423T100954
CREATED:20220701T120404Z
LAST-MODIFIED:20220701T120404Z
UID:3730-1659225600-1659571199@enricoelisipiano.com
SUMMARY:July 31-August 3\, 2022: Recanati\, Italy. Conero Festival (masterclass and adjudication of the competition's final round)
DESCRIPTION:
URL:https://enricoelisipiano.com/event/july-31-august-3-2022-recanati-italy-conero-festival-masterclass-and-adjudication-of-the-competitions-final-round/
LOCATION:Recanati\, Via S Stefano\, 1\, Recanati\, MC\, 62019\, Italy
END:VEVENT
BEGIN:VEVENT
DTSTART;VALUE=DATE:20220802
DTEND;VALUE=DATE:20220810
DTSTAMP:20260423T100954
CREATED:20220329T204543Z
LAST-MODIFIED:20220727T102738Z
UID:3318-1659398400-1660089599@enricoelisipiano.com
SUMMARY:August 2-9\, 2022: San Francisco\, CA\, USA. Artciál International Piano Competition & Festival. Masterclasses and Lessons.
DESCRIPTION:
URL:https://enricoelisipiano.com/event/august-2-9-2022-san-francisco-ca-usa-artcial-international-piano-competition-festival-masterclasses-and-lessons/
ORGANIZER;CN="Artcial":MAILTO:artcialmusicfestival@gmail.com
END:VEVENT
END:VCALENDAR