BEGIN:VCALENDAR
VERSION:2.0
PRODID:-//Enrico Elisi - ECPv6.15.3//NONSGML v1.0//EN
CALSCALE:GREGORIAN
METHOD:PUBLISH
X-ORIGINAL-URL:https://enricoelisipiano.com
X-WR-CALDESC:Events for Enrico Elisi
REFRESH-INTERVAL;VALUE=DURATION:PT1H
X-Robots-Tag:noindex
X-PUBLISHED-TTL:PT1H
BEGIN:VTIMEZONE
TZID:America/New_York
BEGIN:DAYLIGHT
TZOFFSETFROM:-0500
TZOFFSETTO:-0400
TZNAME:EDT
DTSTART:20220313T070000
END:DAYLIGHT
BEGIN:STANDARD
TZOFFSETFROM:-0400
TZOFFSETTO:-0500
TZNAME:EST
DTSTART:20221106T060000
END:STANDARD
END:VTIMEZONE
BEGIN:VEVENT
DTSTART;VALUE=DATE:20220912
DTEND;VALUE=DATE:20220913
DTSTAMP:20260423T083400
CREATED:20220620T133739Z
LAST-MODIFIED:20220620T135128Z
UID:3625-1662940800-1663027199@enricoelisipiano.com
SUMMARY:September 12\, 2022\, Conway\, South Carolina\, USA: Solo Recital at Coastal Carolina University (on Steinway Spirio-r)
DESCRIPTION:Enrico Elisi to perform at the All-Steinway School\, Coastal Carolina University. The recital will take place in Edwards Recital Hall and is part of the Piano Series\, sponsored by the Department of Music. \nCoastal Carolina University recently acquired two Steinway Spirio-r pianos\, and the CCU concert will showcase the complexity of Elisi’s s artistry and the extraordinary capabilities of CCU’s new Steinway Spirio-r. \nIn a symbolic move of renewal and reinvestment\, the two new Steinway pianos\, which are housed in the Edwards Recital Hall and Wheelwright Auditorium\, arrived during the yearlong celebration of the Thomas W. and Robin W. Edwards College of Humanities and Fine Arts 20th anniversary and replace a Steinway that was purchased when the building opened in 2001. \nUsing cutting-edge technology\, the Spirio-r model not only offers concert-hall quality sound but has recording and live streaming capabilities that allow players in remote areas to listen and learn from recorded performances. \nFor more information about the recital\, please call 843-349-2515.
URL:https://enricoelisipiano.com/event/september-12-2022-conway-south-carolina-usa-solo-recital-at-coastal-carolina-university-on-steinway-spirio-r/
LOCATION:Coastal Carolina University\, Conway\, SC\, 29528\, United States
END:VEVENT
BEGIN:VEVENT
DTSTART;VALUE=DATE:20220914
DTEND;VALUE=DATE:20220915
DTSTAMP:20260423T083400
CREATED:20220620T140933Z
LAST-MODIFIED:20220620T141349Z
UID:3628-1663113600-1663199999@enricoelisipiano.com
SUMMARY:September 14\, Florence\, South Carolina\, USA: Recital at Francis Marion University (FMU Artist Series\, Black Box Theatre).
DESCRIPTION:RESERVATIONS: Reservations may be made by calling the FMU Performing Arts Center at 843-661-4444 between 12:00 and 5:00 pm. \n  \n.
URL:https://enricoelisipiano.com/event/september-14-florence-south-carolina-usa-recital-at-francis-marion-university-fmu-artist-series-black-box-theatre/
END:VEVENT
BEGIN:VEVENT
DTSTART;TZID=America/New_York:20220927T180000
DTEND;TZID=America/New_York:20220927T200000
DTSTAMP:20260423T083400
CREATED:20220815T134759Z
LAST-MODIFIED:20220815T135204Z
UID:3782-1664301600-1664308800@enricoelisipiano.com
SUMMARY:September 27\, 2022 from 6 to 8 pm: Ithaca\, NY. Masterclass at Ithaca College
DESCRIPTION:The masterclass in Hockett Family Recital Hall is free and open to the public. \n 
URL:https://enricoelisipiano.com/event/september-28-2022-ithaca-ny-masterclass-at-ithaca-college/
LOCATION:Ithaca College\, 953 Danby Road\, Ithaca\, NY\, 14850\, United States
END:VEVENT
BEGIN:VEVENT
DTSTART;TZID=America/New_York:20220928T201500
DTEND;TZID=America/New_York:20220928T213000
DTSTAMP:20260423T083400
CREATED:20220701T134101Z
LAST-MODIFIED:20220815T135201Z
UID:3732-1664396100-1664400600@enricoelisipiano.com
SUMMARY:September 28\, 2022: Ithaca\, NY. Recital with Solo Repertoire and a Collaboration with Mezzo-Soprano Ivy Walz and Composer Jorge Villavicencio Grossmann.
DESCRIPTION:Composer Jorge Villavicencio Grossmann\n  \nHockett Family Recital Hall at Ithaca College\nThe Concert will feature music by Ithaca College-based\, composer Jorge Villavicencio Grossmann (Angelus! for piano\, and a collection of songs for piano and mezzo-soprano). In addition\, there will be solo works by Liszt\, Chopin\, Berg\, and Schoenberg. \nWednesday\, 9/28/2022 at 8:15 pm in Hockett Family Recital Hall \nFree\, open to the public \n  \nIvy Walz\, Mezzo-Soprano\n 
URL:https://enricoelisipiano.com/event/september-28-2022-ithaca-ny-recital-with-solo-repertoire-and-a-collaboration-with-mezzo-soprano-ivy-walz/
LOCATION:Ithaca College\, 953 Danby Road\, Ithaca\, NY\, 14850\, United States
END:VEVENT
BEGIN:VEVENT
DTSTART;VALUE=DATE:20220929
DTEND;VALUE=DATE:20220930
DTSTAMP:20260423T083400
CREATED:20220701T163323Z
LAST-MODIFIED:20220727T095715Z
UID:3741-1664409600-1664495999@enricoelisipiano.com
SUMMARY:September 29\, 2022: Ithaca\, NY. Recording of Music by Composer Jorge Villavicencio Grossmann.
DESCRIPTION:Recording session featuring music by Ithaca College-based\, composer Jorge Villavicencio Grossmann. \n  \nComposer Jorge Villavicencio Grossmann\n  \nHockett Family Recital Hall at Ithaca College
URL:https://enricoelisipiano.com/event/september-27-2022-ithaca-ny-recording-piano-solo-music-and-songs-by-composer-jorge-villavicencio-grossmann/
LOCATION:Ithaca College\, 953 Danby Road\, Ithaca\, NY\, 14850\, United States
END:VEVENT
BEGIN:VEVENT
DTSTART;TZID=America/New_York:20220930T213000
DTEND;TZID=America/New_York:20220930T235900
DTSTAMP:20260423T083400
CREATED:20220917T044427Z
LAST-MODIFIED:20220917T044427Z
UID:3811-1664573400-1664582340@enricoelisipiano.com
SUMMARY:September 30\, 2022 (tentative): Ithaca\, NY. Recording of Music by Composer Jorge Villavicencio Grossmann.
DESCRIPTION:
URL:https://enricoelisipiano.com/event/september-30-2022-tentative-ithaca-ny-recording-of-music-by-composer-jorge-villavicencio-grossmann/
END:VEVENT
END:VCALENDAR