BEGIN:VCALENDAR
VERSION:2.0
PRODID:-//Enrico Elisi - ECPv6.15.3//NONSGML v1.0//EN
CALSCALE:GREGORIAN
METHOD:PUBLISH
X-WR-CALNAME:Enrico Elisi
X-ORIGINAL-URL:https://enricoelisipiano.com
X-WR-CALDESC:Events for Enrico Elisi
REFRESH-INTERVAL;VALUE=DURATION:PT1H
X-Robots-Tag:noindex
X-PUBLISHED-TTL:PT1H
BEGIN:VTIMEZONE
TZID:America/Mexico_City
BEGIN:DAYLIGHT
TZOFFSETFROM:-0600
TZOFFSETTO:-0500
TZNAME:CDT
DTSTART:20220403T080000
END:DAYLIGHT
BEGIN:STANDARD
TZOFFSETFROM:-0500
TZOFFSETTO:-0600
TZNAME:CST
DTSTART:20221030T070000
END:STANDARD
END:VTIMEZONE
BEGIN:VTIMEZONE
TZID:America/New_York
BEGIN:DAYLIGHT
TZOFFSETFROM:-0500
TZOFFSETTO:-0400
TZNAME:EDT
DTSTART:20220313T070000
END:DAYLIGHT
BEGIN:STANDARD
TZOFFSETFROM:-0400
TZOFFSETTO:-0500
TZNAME:EST
DTSTART:20221106T060000
END:STANDARD
END:VTIMEZONE
BEGIN:VTIMEZONE
TZID:America/Chicago
BEGIN:DAYLIGHT
TZOFFSETFROM:-0600
TZOFFSETTO:-0500
TZNAME:CDT
DTSTART:20220313T080000
END:DAYLIGHT
BEGIN:STANDARD
TZOFFSETFROM:-0500
TZOFFSETTO:-0600
TZNAME:CST
DTSTART:20221106T070000
END:STANDARD
END:VTIMEZONE
BEGIN:VTIMEZONE
TZID:America/Halifax
BEGIN:DAYLIGHT
TZOFFSETFROM:-0400
TZOFFSETTO:-0300
TZNAME:ADT
DTSTART:20220313T060000
END:DAYLIGHT
BEGIN:STANDARD
TZOFFSETFROM:-0300
TZOFFSETTO:-0400
TZNAME:AST
DTSTART:20221106T050000
END:STANDARD
END:VTIMEZONE
BEGIN:VTIMEZONE
TZID:America/New_York
BEGIN:DAYLIGHT
TZOFFSETFROM:-0500
TZOFFSETTO:-0400
TZNAME:EDT
DTSTART:20220313T070000
END:DAYLIGHT
BEGIN:STANDARD
TZOFFSETFROM:-0400
TZOFFSETTO:-0500
TZNAME:EST
DTSTART:20221106T060000
END:STANDARD
END:VTIMEZONE
BEGIN:VEVENT
DTSTART;TZID=America/Mexico_City:20221101T193000
DTEND;TZID=America/Mexico_City:20221101T210000
DTSTAMP:20260423T045844
CREATED:20220917T022133Z
LAST-MODIFIED:20220917T024030Z
UID:3794-1667331000-1667336400@enricoelisipiano.com
SUMMARY:November 1\, 2022\, 7:30 PM: Norman\, Oklahoma\, USA. Solo Recital in Sharp Hall at the University of Oklahoma
DESCRIPTION:
URL:https://enricoelisipiano.com/event/november-1-2022-730-pm-normak-oklahoma-ok-usa-solo-recital-in-sharp-hall-at-the-university-of-oklahoma/
END:VEVENT
BEGIN:VEVENT
DTSTART;VALUE=DATE:20221105
DTEND;VALUE=DATE:20221106
DTSTAMP:20260423T045844
CREATED:20220620T124045Z
LAST-MODIFIED:20220620T124045Z
UID:3619-1667606400-1667692799@enricoelisipiano.com
SUMMARY:November 5\, 2022\, Cape Girardeau\, Missouri\, USA. Featured Conference Artist. Solo Recital.
DESCRIPTION:Enrico Elisi will be the featured Conference Artist at the 2022 Missouri State MMTA Conference\, where he will give a solo recital. \nShuck Recital Hall at Southeast Missouri State University \n  \n 
URL:https://enricoelisipiano.com/event/november-5-2022-cape-girardeau-missouri-usa-featured-conference-artist-solo-recital/
LOCATION:Southeast Missouri State University\, 1 University Plaza\, Cape Girardeau\, MO\, 63701
ORGANIZER;CN="Missouri Music Teacher Association":MAILTO:mrautmann@benedictine.edu
END:VEVENT
BEGIN:VEVENT
DTSTART;TZID=America/Chicago:20221106T170000
DTEND;TZID=America/Chicago:20221106T190000
DTSTAMP:20260423T045844
CREATED:20220917T030112Z
LAST-MODIFIED:20220917T030112Z
UID:3802-1667754000-1667761200@enricoelisipiano.com
SUMMARY:November 6\, 2022\, 5:00 PM: Lenexa\, Kansas\, USA. Masterclass at the Steinway Piano Gallery in Kansas City
DESCRIPTION:
URL:https://enricoelisipiano.com/event/november-6-2022-500-pm-lenexa-kansas-usa-masterclass-at-the-steinway-piano-gallery-in-kansas-city/
END:VEVENT
BEGIN:VEVENT
DTSTART;TZID=America/Chicago:20221107T150000
DTEND;TZID=America/Chicago:20221107T170000
DTSTAMP:20260423T045844
CREATED:20220813T121246Z
LAST-MODIFIED:20220813T121246Z
UID:3769-1667833200-1667840400@enricoelisipiano.com
SUMMARY:November 7\, 2022\, 3-5 PM (CST): Kansas City\, KS\, USA. Masterclass in Grant Recital Hall at the University of Missouri-Kansas City Conservatory of Music and Dance
DESCRIPTION:The masterclass will occur in Grant Hall at 7:30 pm (CST).  For information\, contact Prof. Jeffrey Savage.
URL:https://enricoelisipiano.com/event/november-7-2022-3-5-pm-cst-kansas-city-ks-usa-masterclass-in-grant-recital-hall-at-the-university-of-missouri-kansas-city-conservatory-of-music-and-dance/
LOCATION:UMKC\, 4949 Cherry Street\, Kansas City\, KS\, United States
END:VEVENT
BEGIN:VEVENT
DTSTART;TZID=America/Chicago:20221108T160000
DTEND;TZID=America/Chicago:20221108T173000
DTSTAMP:20260423T045844
CREATED:20220917T024520Z
LAST-MODIFIED:20220917T025600Z
UID:3800-1667923200-1667928600@enricoelisipiano.com
SUMMARY:November 8\, 2022\, 4:00 PM: Lawrence\, Kansas\, USA. Masterclass in Swarthout Hall at the University of Kansas
DESCRIPTION:
URL:https://enricoelisipiano.com/event/november-8-2022-400-pm-lawrence-kansas-usa-masterclass-in-swarthout-hall-at-the-university-of-kansas/
END:VEVENT
BEGIN:VEVENT
DTSTART;TZID=America/New_York:20221109T193000
DTEND;TZID=America/New_York:20221109T210000
DTSTAMP:20260423T045844
CREATED:20220727T101800Z
LAST-MODIFIED:20220813T121313Z
UID:3755-1668022200-1668027600@enricoelisipiano.com
SUMMARY:November 9\, 2022\, 7:30 PM (CST): Kansas City\, KS\, USA. Solo Recital in Grant Recital Hall at the University of Missouri-Kansas City Conservatory of Music and Dance
DESCRIPTION:The recital will occur in Grant Hall at 7:30 pm (CST).  For information\, see the calendar page or contact Prof. Jeffrey Savage.
URL:https://enricoelisipiano.com/event/november-9-2022-730-pm-cst-kansas-city-ks-usa-solo-recital-in-grant-recital-hall-at-the-university-of-missouri-kansas-city-conservatory-of-music-and-dance/
LOCATION:UMKC\, 4949 Cherry Street\, Kansas City\, KS\, United States
END:VEVENT
BEGIN:VEVENT
DTSTART;TZID=America/Halifax:20221113T170000
DTEND;TZID=America/Halifax:20221113T183000
DTSTAMP:20260423T045844
CREATED:20220813T135704Z
LAST-MODIFIED:20220813T140533Z
UID:3772-1668358800-1668364200@enricoelisipiano.com
SUMMARY:November 13\, 5:00 pm\, Kent\, OH\, USA. Solo Recital at Kent Keyboard Series (Kent State University).
DESCRIPTION:Kent\, OH — Kent State University’s Kent Keyboard Series offers five concerts featuring Hugh A. Glauser School of Music faculty artists and internationally renowned guest artists. \n\nThe Hugh A. Glauser School of Music at Kent State University (Kent\, OH) is one of the most distinguished music schools in the Midwest. For over 100 years\, the School of Music has nurtured the next generation of music educators\, performing artists\, and scholars. \nMedia Contact: \nAndrew Paa\, Marketing Assistant\napaa@kent.edu\, 330-672-0894\nwww.kent.edu/music
URL:https://enricoelisipiano.com/event/november-13-500-pm-kent-oh-usa-solo-recital-at-kent-keyboard-series-kent-state-university/
LOCATION:Kent State University\, 1325 Theatre Dr.\, Kent\, OH\, 44243\, United States
ORGANIZER;CN="Kent Keyboard Series":MAILTO:330-672-2172
END:VEVENT
BEGIN:VEVENT
DTSTART;VALUE=DATE:20221114
DTEND;VALUE=DATE:20221115
DTSTAMP:20260423T045844
CREATED:20230303T004346Z
LAST-MODIFIED:20230303T005945Z
UID:3778-1668384000-1668470399@enricoelisipiano.com
SUMMARY:November 14\, 2022. Kent\, OH\, USA. Masterclass at Kent State University.
DESCRIPTION:
URL:https://enricoelisipiano.com/event/november-14-2022-kent-oh-usa-masterclass-at-kent-state-university/
LOCATION:Kent State University\, 1325 Theatre Dr.\, Kent\, OH\, 44243\, United States
ORGANIZER;CN="Kent Keyboard Series":MAILTO:330-672-2172
END:VEVENT
BEGIN:VEVENT
DTSTART;TZID=America/New_York:20221115T190000
DTEND;TZID=America/New_York:20221115T210000
DTSTAMP:20260423T045844
CREATED:20221204T012149Z
LAST-MODIFIED:20221204T012149Z
UID:3831-1668538800-1668546000@enricoelisipiano.com
SUMMARY:November 15\, 7:00 pm\, DeLand\, FL\, USA. Masterclass at Stetson University.
DESCRIPTION:
URL:https://enricoelisipiano.com/event/november-15-700-pm-deland-fl-usa-masterclass-at-stetson-university/
END:VEVENT
BEGIN:VEVENT
DTSTART;TZID=America/New_York:20221116T193000
DTEND;TZID=America/New_York:20221116T213000
DTSTAMP:20260423T045844
CREATED:20221204T012032Z
LAST-MODIFIED:20221204T012032Z
UID:3829-1668627000-1668634200@enricoelisipiano.com
SUMMARY:November 16\, 7:30 pm\, DeLand\, FL\, USA. Great Pianists at Stetson\, Solo Recital\, Stetson University.
DESCRIPTION:
URL:https://enricoelisipiano.com/event/november-16-730-pm-deland-fl-usa-great-pianists-at-stetson-solo-recital-stetson-university/
END:VEVENT
BEGIN:VEVENT
DTSTART;VALUE=DATE:20221128
DTEND;VALUE=DATE:20221130
DTSTAMP:20260423T045844
CREATED:20220725T140045Z
LAST-MODIFIED:20230507T051436Z
UID:3748-1669593600-1669766399@enricoelisipiano.com
SUMMARY:November 28 - 29\, 2022: Pinerolo\, Italy. Workshop on Memorization for Pianists (Through Reflection and Silent Reading of the Score)
DESCRIPTION:
URL:https://enricoelisipiano.com/event/november-28-29-2022-pinerolo-italy-workshop-on-memorization-for-pianists-through-reflection-and-silent-reading-of-the-score/
LOCATION:Accademia di Musica di Pinerolo\, Viale Giolitti\, 7/a\, Pinerolo (TO)\, (TORINO)\, 10064\, Italy
ORGANIZER;CN="accademia di musica di Pinerolo":MAILTO:cinzia.conti@accademiadimusica.it
END:VEVENT
END:VCALENDAR