BEGIN:VCALENDAR
VERSION:2.0
PRODID:-//Enrico Elisi - ECPv6.15.3//NONSGML v1.0//EN
CALSCALE:GREGORIAN
METHOD:PUBLISH
X-ORIGINAL-URL:https://enricoelisipiano.com
X-WR-CALDESC:Events for Enrico Elisi
REFRESH-INTERVAL;VALUE=DURATION:PT1H
X-Robots-Tag:noindex
X-PUBLISHED-TTL:PT1H
BEGIN:VTIMEZONE
TZID:Europe/London
BEGIN:DAYLIGHT
TZOFFSETFROM:+0000
TZOFFSETTO:+0100
TZNAME:BST
DTSTART:20230326T010000
END:DAYLIGHT
BEGIN:STANDARD
TZOFFSETFROM:+0100
TZOFFSETTO:+0000
TZNAME:GMT
DTSTART:20231029T010000
END:STANDARD
END:VTIMEZONE
BEGIN:VEVENT
DTSTART;VALUE=DATE:20230424
DTEND;VALUE=DATE:20230426
DTSTAMP:20260422T200628
CREATED:20221218T142928Z
LAST-MODIFIED:20230507T051418Z
UID:3864-1682294400-1682467199@enricoelisipiano.com
SUMMARY:April 24 - 25\, 2023: London\, United Kingdom. Effective Memorisation Strategies for Pianists (through reflection\, score's silent reading\, and motor imagery)
DESCRIPTION:Effective Memorisation Strategies for Pianists\n\nWorkshop\nStudy pathway\n\nThe present workshop on effective memorisation strategies based on mental practice illustrates techniques by which someone with the intent of practising creates a mental representation of a preconceived idea or action to enhance performance. Through increased focus and concentration\, pianists will learn how to study portions of a score in their minds without spending considerable time at the piano. \nAmong the techniques illustrated in this workshop are: \n\nMotor imagery (visualising the feeling of moving the fingers).\nOrganising groupings found in the text (also through formal\, melodic\, and rhythmic analysis).\nSinging and feeling intervallic relationships.\nScene memory (rapid eye movements to identify the next position on the key).\nSwitches (slight changes of patterns often resulting in memory slips).\n\nThese tools are helpful\, and while they cannot replace the actual practising at the keyboard\, they are invaluable mental rehearsal devices. \n\n\nRoyal College of Music\, Entrance.\nRoyal College (building\, full image)\n  \nLatest events: \n—July 2022 to August 20231. July 27 – August 10\, 2023: Recanati\, Italy. Conero Festival. (Chinese students-only\, with a translator\, festival from July 27 to 31; other international students–including Chinese speaking students from August 1 to 10.)2. July 5-17\, 2023: Maiori\, Italy. Residency at the Amalfi Coast Music Festival. Faculty Showcase\, Faculty Recital\, Master Classes\, and Individual Lessons3. June 3-11\, 2023: San Marcos\, TX\, USA. Texas State International Piano Festival. Master Classes\, Individual Lessons\, and Adjudication of the TSIPF International Piano Competition4. May 28 – June 5\, 2023: Ottawa\, ON\, Canada. The Hnatyshyn Foundation: Adjudication of the $10\,000 Developing Artist Grants5. May 26\, 2023: Nagoya\, Japan. Masterclass at Aichi Prefectural Meiwa High School6. May 25\, 2023: Nagoya\, Japan. Masterclass and recital at 愛知県立芸術大学 (Aichi Prefectural University of the Arts)7. April 24-25\, 2023: London\, United Kingdom. Effective Memorisation Strategies for Pianists (through reflection\, score’s silent reading\, and motor imagery)\, Royal College of Music8. April 26-27\, 2023: Manchester\, United Kingdom. Effective Memorisation Strategies for Pianists (through reflection\, score’s silent reading\, and motor imagery). Royal Northern College of Music9. December 11\, 2022: New York City\, USA\, Piano Star International Piano Competition Adjudication10. November 29-28\, 2022: Pinerolo\, Italy. Workshop on Memorization for Pianists (Through Reflection and Silent Reading of the Score)11. November 16\, 2022\, 7:30 PM: DeLand\, FL\, USA. Great Pianists at Stetson\, Solo Recital\, Stetson University12. November 15\, 2022\, 7:00 PM: DeLand\, FL\, USA. Masterclass at Stetson University13. November 14\, 2022: Kent\, OH\, USA. Masterclass at Kent State University14. November 13\, 2022\, 5:00 PM: Kent\, OH\, USA. Solo Recital at Kent Keyboard Series (Kent State University)15. November 9\, 2022\, 7:30 PM (CST): Kansas City\, KS\, USA. Solo Recital in Grant Recital Hall at the University of Missouri-Kansas16. November 8\, 2022\, 4:00 PM: Lawrence\, Kansas\, USA. Masterclass in Swarthout Hall at the University of Kansas17. November 7\, 2022\, 3–5 PM (CST): Kansas City\, KS\, USA. Masterclass in Grant Recital Hall at the University of Missouri-Kansas City Conservatory of Music and Dance18. November 6\, 2022\, 5:00 PM: Lenexa\, Kansas\, USA. Masterclass at the Steinway Piano Gallery in Kansas City19. November 5\, 2022: Cape Girardeau\, Missouri\, USA. Featured Conference Artist. Solo Recital20. November 1\, 2022\, 7:30 PM: Norman\, Oklahoma\, USA. Solo Recital in Sharp Hall at the University of Oklahoma21. October 31\, 2022\, 1:00–3:00 PM: Norman\, Oklahoma\, USA. Masterclass in Pitman Hall at the University of Oklahoma22. October 26\, 2022\, at 4:30 PM: Boston\, MA\, USA. Masterclass at the Rivers School Conservatory23. October 24\, 2022\, at 3:45 PM: Boston\, MA\, USA. Masterclass at the Rivers School Conservatory24. October 24\, 2022\, from 10 AM to 12 PM: Boston\, MA\, USA. Masterclass at the Longy School of Music of Bard College25. October 16 at 2:30 PM\, Walter Hall\, Toronto\, ON\, Canada: the Goh Piano Debut – Solo Recital at the University of Toronto for the Inauguration of the Newly Selected Hamburg Steinway26. September 29\, 2022: Ithaca\, NY. Recording of Music by Composer Jorge Villavicencio Grossmann. Ithaca College27. September 28\, 2022: Ithaca\, NY. Recital with Solo Repertoire and a Collaboration with Mezzo-Soprano Ivy Walz and Composer Jorge Villavicencio Grossmann. Ithaca College28. September 27\, 2022\, from 6 to 8 PM: Ithaca\, NY. Masterclass at Ithaca College29. September 14\, 2022\, Florence\, South Carolina\, USA: Recital at Francis Marion University (FMU Artist Series\, Black Box Theatre)30. September 12\, 2022\, Conway\, South Carolina\, USA: Solo Recital at Coastal Carolina University (on Steinway Spirio-r\, with a simultaneous live broadcast on Spirio pianos in the entire state of South Carolina – at the presence of the President of Steinway\, NY)August 2-9\, 2022: San Francisco\, CA\, USA. Artciál International Piano Competition & Festival. Masterclasses and LessonsJuly 31-August 3\, 2022: Recanati\, Italy. Conero Festival (masterclass and adjudication of the competition’s final round)July 5-17\, 2022: Maiori\, Italy. Residency at the Amalfi Coast Music Festival (25th Anniversary). Faculty Showcase Recital\, Master Classes\, and Individual Lessons
URL:https://enricoelisipiano.com/event/april-24-25-2023-london-united-kingdom-workshop-on-memorization-through-reflection-scores-silent-reading-and-motor-imagery/
LOCATION:Royal College of Music\, London\, Prince Consort Road\,\, London\, SW7 2BS\, United Kingdom
ORGANIZER;CN="Royal College of Music%2C London":MAILTO:info@rcm.ac.uk
END:VEVENT
BEGIN:VEVENT
DTSTART;VALUE=DATE:20230426
DTEND;VALUE=DATE:20230428
DTSTAMP:20260422T200628
CREATED:20230209T152333Z
LAST-MODIFIED:20230507T051401Z
UID:3945-1682467200-1682639999@enricoelisipiano.com
SUMMARY:April 26 - 27\, 2023: Manchester\, United Kingdom. Effective Memorisation Strategies for Pianists (through reflection\, score's silent reading\, and motor imagery). Royal Northern College of Music.
DESCRIPTION:Effective Memorisation Strategies for Pianists\n\nWorkshop\nStudy pathway\n\nThe present workshop on effective memorisation strategies based on mental practice illustrates techniques by which someone with the intent of practising creates a mental representation of a preconceived idea or action to enhance performance. Through increased focus and concentration\, pianists will learn how to study portions of a score in their minds without spending considerable time at the piano. \nAmong the techniques illustrated in this workshop are: \n\nMotor imagery (visualising the feeling of moving the fingers).\nOrganising groupings found in the text (also through formal\, melodic\, and rhythmic analysis).\nSinging and feeling intervallic relationships.\nScene memory (rapid eye movements to identify the next position on the key).\nSwitches (slight changes of patterns often resulting in memory slips).\n\nThese tools are helpful\, and while they cannot replace the actual practising at the keyboard\, they are invaluable mental rehearsal devices. \n\n\nRNCM\n\n\nLatest events: \n—July 2022 to August 20231. July 27 – August 10\, 2023: Recanati\, Italy. Conero Festival. (Chinese students-only\, with a translator\, festival from July 27 to 31; other international students–including Chinese speaking students from August 1 to 10.)2. July 5-17\, 2023: Maiori\, Italy. Residency at the Amalfi Coast Music Festival. Faculty Showcase\, Faculty Recital\, Master Classes\, and Individual Lessons3. June 3-11\, 2023: San Marcos\, TX\, USA. Texas State International Piano Festival. Master Classes\, Individual Lessons\, and Adjudication of the TSIPF International Piano Competition4. May 28 – June 5\, 2023: Ottawa\, ON\, Canada. The Hnatyshyn Foundation: Adjudication of the $10\,000 Developing Artist Grants5. May 26\, 2023: Nagoya\, Japan. Masterclass at Aichi Prefectural Meiwa High School6. May 25\, 2023: Nagoya\, Japan. Masterclass and recital at 愛知県立芸術大学 (Aichi Prefectural University of the Arts)7. April 24-25\, 2023: London\, United Kingdom. Effective Memorisation Strategies for Pianists (through reflection\, score’s silent reading\, and motor imagery)\, Royal College of Music8. April 26-27\, 2023: Manchester\, United Kingdom. Effective Memorisation Strategies for Pianists (through reflection\, score’s silent reading\, and motor imagery). Royal Northern College of Music9. December 11\, 2022: New York City\, USA\, Piano Star International Piano Competition Adjudication10. November 29-28\, 2022: Pinerolo\, Italy. Workshop on Memorization for Pianists (Through Reflection and Silent Reading of the Score)11. November 16\, 2022\, 7:30 PM: DeLand\, FL\, USA. Great Pianists at Stetson\, Solo Recital\, Stetson University12. November 15\, 2022\, 7:00 PM: DeLand\, FL\, USA. Masterclass at Stetson University13. November 14\, 2022: Kent\, OH\, USA. Masterclass at Kent State University14. November 13\, 2022\, 5:00 PM: Kent\, OH\, USA. Solo Recital at Kent Keyboard Series (Kent State University)15. November 9\, 2022\, 7:30 PM (CST): Kansas City\, KS\, USA. Solo Recital in Grant Recital Hall at the University of Missouri-Kansas16. November 8\, 2022\, 4:00 PM: Lawrence\, Kansas\, USA. Masterclass in Swarthout Hall at the University of Kansas17. November 7\, 2022\, 3–5 PM (CST): Kansas City\, KS\, USA. Masterclass in Grant Recital Hall at the University of Missouri-Kansas City Conservatory of Music and Dance18. November 6\, 2022\, 5:00 PM: Lenexa\, Kansas\, USA. Masterclass at the Steinway Piano Gallery in Kansas City19. November 5\, 2022: Cape Girardeau\, Missouri\, USA. Featured Conference Artist. Solo Recital20. November 1\, 2022\, 7:30 PM: Norman\, Oklahoma\, USA. Solo Recital in Sharp Hall at the University of Oklahoma21. October 31\, 2022\, 1:00–3:00 PM: Norman\, Oklahoma\, USA. Masterclass in Pitman Hall at the University of Oklahoma22. October 26\, 2022\, at 4:30 PM: Boston\, MA\, USA. Masterclass at the Rivers School Conservatory23. October 24\, 2022\, at 3:45 PM: Boston\, MA\, USA. Masterclass at the Rivers School Conservatory24. October 24\, 2022\, from 10 AM to 12 PM: Boston\, MA\, USA. Masterclass at the Longy School of Music of Bard College25. October 16 at 2:30 PM\, Walter Hall\, Toronto\, ON\, Canada: the Goh Piano Debut – Solo Recital at the University of Toronto for the Inauguration of the Newly Selected Hamburg Steinway26. September 29\, 2022: Ithaca\, NY. Recording of Music by Composer Jorge Villavicencio Grossmann. Ithaca College27. September 28\, 2022: Ithaca\, NY. Recital with Solo Repertoire and a Collaboration with Mezzo-Soprano Ivy Walz and Composer Jorge Villavicencio Grossmann. Ithaca College28. September 27\, 2022\, from 6 to 8 PM: Ithaca\, NY. Masterclass at Ithaca College29. September 14\, 2022\, Florence\, South Carolina\, USA: Recital at Francis Marion University (FMU Artist Series\, Black Box Theatre)30. September 12\, 2022\, Conway\, South Carolina\, USA: Solo Recital at Coastal Carolina University (on Steinway Spirio-r\, with a simultaneous live broadcast on Spirio pianos in the entire state of South Carolina – at the presence of the President of Steinway\, NY)August 2-9\, 2022: San Francisco\, CA\, USA. Artciál International Piano Competition & Festival. Masterclasses and LessonsJuly 31-August 3\, 2022: Recanati\, Italy. Conero Festival (masterclass and adjudication of the competition’s final round)July 5-17\, 2022: Maiori\, Italy. Residency at the Amalfi Coast Music Festival (25th Anniversary). Faculty Showcase Recital\, Master Classes\, and Individual Lessons
URL:https://enricoelisipiano.com/event/april-26-27-2023-manchester-united-kingdom-effective-memorisation-strategies-for-pianists-through-reflection-scores-silent-reading-and-motor-imagery/
LOCATION:Royal Northen College of Music\, 24 Oxford Road\,\, Manchester\, SW7M13 9RD 2BS\, United Kingdom
ORGANIZER;CN="Royal Northern College of Music":MAILTO:info@rncm.ac.uk
END:VEVENT
END:VCALENDAR