BEGIN:VCALENDAR
VERSION:2.0
PRODID:-//Enrico Elisi - ECPv6.15.3//NONSGML v1.0//EN
CALSCALE:GREGORIAN
METHOD:PUBLISH
X-ORIGINAL-URL:https://enricoelisipiano.com
X-WR-CALDESC:Events for Enrico Elisi
REFRESH-INTERVAL;VALUE=DURATION:PT1H
X-Robots-Tag:noindex
X-PUBLISHED-TTL:PT1H
BEGIN:VTIMEZONE
TZID:America/New_York
BEGIN:DAYLIGHT
TZOFFSETFROM:-0500
TZOFFSETTO:-0400
TZNAME:EDT
DTSTART:20230312T070000
END:DAYLIGHT
BEGIN:STANDARD
TZOFFSETFROM:-0400
TZOFFSETTO:-0500
TZNAME:EST
DTSTART:20231105T060000
END:STANDARD
END:VTIMEZONE
BEGIN:VTIMEZONE
TZID:Asia/Seoul
BEGIN:STANDARD
TZOFFSETFROM:+0900
TZOFFSETTO:+0900
TZNAME:KST
DTSTART:20230101T000000
END:STANDARD
END:VTIMEZONE
BEGIN:VTIMEZONE
TZID:Asia/Tokyo
BEGIN:STANDARD
TZOFFSETFROM:+0900
TZOFFSETTO:+0900
TZNAME:JST
DTSTART:20230101T000000
END:STANDARD
END:VTIMEZONE
BEGIN:VEVENT
DTSTART;TZID=America/New_York:20230509T140000
DTEND;TZID=America/New_York:20230509T155000
DTSTAMP:20260422T181251
CREATED:20230507T050029Z
LAST-MODIFIED:20230507T051043Z
UID:4062-1683640800-1683647400@enricoelisipiano.com
SUMMARY:May 9\, 2023\, 2:00 - 3:50 pm: Seoul\, South Korea. Masterclass No. 1 at Yewon School.
DESCRIPTION:
URL:https://enricoelisipiano.com/event/may-9-2023-2-350-pm-seoul-south-korea-masterclass-at-yewon-school/
END:VEVENT
BEGIN:VEVENT
DTSTART;TZID=Asia/Seoul:20230510T150000
DTEND;TZID=Asia/Seoul:20230510T180000
DTSTAMP:20260422T181251
CREATED:20230507T051928Z
LAST-MODIFIED:20230507T053328Z
UID:4081-1683730800-1683741600@enricoelisipiano.com
SUMMARY:May 10\, 2023\, 3:00 - 6:00 pm: Seoul\, South Korea. Masterclass at Sookmyung Women's University.
DESCRIPTION:Sookmyung Women’s University Poster 2023
URL:https://enricoelisipiano.com/event/may-10-2023-300-600-pm-seoul-south-korea-masterclass-at-sookmyung-womens-university/
END:VEVENT
BEGIN:VEVENT
DTSTART;TZID=Asia/Seoul:20230512T094000
DTEND;TZID=Asia/Seoul:20230512T113000
DTSTAMP:20260422T181251
CREATED:20230507T050340Z
LAST-MODIFIED:20230507T050421Z
UID:4065-1683884400-1683891000@enricoelisipiano.com
SUMMARY:May 12\, 2023\, 9:40 am - 11:30 am: Seoul\, South Korea. Masterclass No. 2 at Yewon School.
DESCRIPTION:
URL:https://enricoelisipiano.com/event/may-12-2023-940-am-1130-am-seoul-south-korea-masterclass-no-2-at-yewon-school/
END:VEVENT
BEGIN:VEVENT
DTSTART;TZID=America/New_York:20230512T131000
DTEND;TZID=America/New_York:20230512T150000
DTSTAMP:20260422T181251
CREATED:20230507T050626Z
LAST-MODIFIED:20230507T051058Z
UID:4064-1683897000-1683903600@enricoelisipiano.com
SUMMARY:May 12\, 2023\, 1:10 - 3:00 pm: Seoul\, South Korea. Masterclass No. 3 at Yewon School.
DESCRIPTION:
URL:https://enricoelisipiano.com/event/may-9-2023-110-300-pm-seoul-south-korea-masterclass-no-3-at-yewon-school/
END:VEVENT
BEGIN:VEVENT
DTSTART;TZID=Asia/Tokyo:20230525T180000
DTEND;TZID=Asia/Tokyo:20230525T190000
DTSTAMP:20260422T181251
CREATED:20221218T134122Z
LAST-MODIFIED:20230521T111145Z
UID:3856-1685037600-1685041200@enricoelisipiano.com
SUMMARY:May 25\, 2023 at 6 pm: Nagoya\, Japan. Recital at  愛知県立芸術大学 (Aichi Prefectural University of the Arts)
DESCRIPTION:Latest events: \n—July 2022 to August 20231. July 27 – August 10\, 2023: Recanati\, Italy. Conero Festival. (Chinese students-only\, with a translator\, festival from July 27 to 31; other international students–including Chinese speaking students from August 1 to 10.)2. July 5-17\, 2023: Maiori\, Italy. Residency at the Amalfi Coast Music Festival. Faculty Showcase\, Faculty Recital\, Master Classes\, and Individual Lessons3. June 3-11\, 2023: San Marcos\, TX\, USA. Texas State International Piano Festival. Master Classes\, Individual Lessons\, and Adjudication of the TSIPF International Piano Competition4. May 28 – June 5\, 2023: Ottawa\, ON\, Canada. The Hnatyshyn Foundation: Adjudication of the $10\,000 Developing Artist Grants5. May 26\, 2023: Nagoya\, Japan. Masterclass at Aichi Prefectural Meiwa High School6. May 25\, 2023: Nagoya\, Japan. Masterclass and recital at 愛知県立芸術大学 (Aichi Prefectural University of the Arts)7. April 24-25\, 2023: London\, United Kingdom. Effective Memorisation Strategies for Pianists (through reflection\, score’s silent reading\, and motor imagery)\, Royal College of Music8. April 26-27\, 2023: Manchester\, United Kingdom. Effective Memorisation Strategies for Pianists (through reflection\, score’s silent reading\, and motor imagery). Royal Northern College of Music9. December 11\, 2022: New York City\, USA\, Piano Star International Piano Competition Adjudication10. November 29-28\, 2022: Pinerolo\, Italy. Workshop on Memorization for Pianists (Through Reflection and Silent Reading of the Score)11. November 16\, 2022\, 7:30 PM: DeLand\, FL\, USA. Great Pianists at Stetson\, Solo Recital\, Stetson University12. November 15\, 2022\, 7:00 PM: DeLand\, FL\, USA. Masterclass at Stetson University13. November 14\, 2022: Kent\, OH\, USA. Masterclass at Kent State University14. November 13\, 2022\, 5:00 PM: Kent\, OH\, USA. Solo Recital at Kent Keyboard Series (Kent State University)15. November 9\, 2022\, 7:30 PM (CST): Kansas City\, KS\, USA. Solo Recital in Grant Recital Hall at the University of Missouri-Kansas16. November 8\, 2022\, 4:00 PM: Lawrence\, Kansas\, USA. Masterclass in Swarthout Hall at the University of Kansas17. November 7\, 2022\, 3–5 PM (CST): Kansas City\, KS\, USA. Masterclass in Grant Recital Hall at the University of Missouri-Kansas City Conservatory of Music and Dance18. November 6\, 2022\, 5:00 PM: Lenexa\, Kansas\, USA. Masterclass at the Steinway Piano Gallery in Kansas City19. November 5\, 2022: Cape Girardeau\, Missouri\, USA. Featured Conference Artist. Solo Recital20. November 1\, 2022\, 7:30 PM: Norman\, Oklahoma\, USA. Solo Recital in Sharp Hall at the University of Oklahoma21. October 31\, 2022\, 1:00–3:00 PM: Norman\, Oklahoma\, USA. Masterclass in Pitman Hall at the University of Oklahoma22. October 26\, 2022\, at 4:30 PM: Boston\, MA\, USA. Masterclass at the Rivers School Conservatory23. October 24\, 2022\, at 3:45 PM: Boston\, MA\, USA. Masterclass at the Rivers School Conservatory24. October 24\, 2022\, from 10 AM to 12 PM: Boston\, MA\, USA. Masterclass at the Longy School of Music of Bard College25. October 16 at 2:30 PM\, Walter Hall\, Toronto\, ON\, Canada: the Goh Piano Debut – Solo Recital at the University of Toronto for the Inauguration of the Newly Selected Hamburg Steinway26. September 29\, 2022: Ithaca\, NY. Recording of Music by Composer Jorge Villavicencio Grossmann. Ithaca College27. September 28\, 2022: Ithaca\, NY. Recital with Solo Repertoire and a Collaboration with Mezzo-Soprano Ivy Walz and Composer Jorge Villavicencio Grossmann. Ithaca College28. September 27\, 2022\, from 6 to 8 PM: Ithaca\, NY. Masterclass at Ithaca College29. September 14\, 2022\, Florence\, South Carolina\, USA: Recital at Francis Marion University (FMU Artist Series\, Black Box Theatre)30. September 12\, 2022\, Conway\, South Carolina\, USA: Solo Recital at Coastal Carolina University (on Steinway Spirio-r\, with a simultaneous live broadcast on Spirio pianos in the entire state of South Carolina – at the presence of the President of Steinway\, NY)August 2-9\, 2022: San Francisco\, CA\, USA. Artciál International Piano Competition & Festival. Masterclasses and LessonsJuly 31-August 3\, 2022: Recanati\, Italy. Conero Festival (masterclass and adjudication of the competition’s final round)July 5-17\, 2022: Maiori\, Italy. Residency at the Amalfi Coast Music Festival (25th Anniversary). Faculty Showcase Recital\, Master Classes\, and Individual Lessons
URL:https://enricoelisipiano.com/event/may-25-2023-nagoya-japan-masterclass-and-recital-at-nagoya-university-of-the-arts/
LOCATION:Aichi Prefectural University of the Arts\, 480-1103 Aichi\, Nagakute\, Yazako\, Sagamine−1−114\, 480-1103 Nagakute\, Yazako\, Sagamine\, Aichi\, 1−114\, Japan
ORGANIZER;CN="Aichi Prefectural University of the Arts":MAILTO:https://aigeiweb-form.jp/form.php?form=58089905f422b
END:VEVENT
BEGIN:VEVENT
DTSTART;TZID=Asia/Tokyo:20230525T190000
DTEND;TZID=Asia/Tokyo:20230525T210000
DTSTAMP:20260422T181251
CREATED:20230521T061400Z
LAST-MODIFIED:20230521T112033Z
UID:4094-1685041200-1685048400@enricoelisipiano.com
SUMMARY:May 25\, 2023 at 7 pm: Nagoya\, Japan. Masterclass at  愛知県立芸術大学 (Aichi Prefectural University of the Arts)
DESCRIPTION:Latest events: \n—July 2022 to August 20231. July 27 – August 10\, 2023: Recanati\, Italy. Conero Festival. (Chinese students-only\, with a translator\, festival from July 27 to 31; other international students–including Chinese speaking students from August 1 to 10.)2. July 5-17\, 2023: Maiori\, Italy. Residency at the Amalfi Coast Music Festival. Faculty Showcase\, Faculty Recital\, Master Classes\, and Individual Lessons3. June 3-11\, 2023: San Marcos\, TX\, USA. Texas State International Piano Festival. Master Classes\, Individual Lessons\, and Adjudication of the TSIPF International Piano Competition4. May 28 – June 5\, 2023: Ottawa\, ON\, Canada. The Hnatyshyn Foundation: Adjudication of the $10\,000 Developing Artist Grants5. May 26\, 2023: Nagoya\, Japan. Masterclass at Aichi Prefectural Meiwa High School6. May 25\, 2023: Nagoya\, Japan. Masterclass and recital at 愛知県立芸術大学 (Aichi Prefectural University of the Arts)7. April 24-25\, 2023: London\, United Kingdom. Effective Memorisation Strategies for Pianists (through reflection\, score’s silent reading\, and motor imagery)\, Royal College of Music8. April 26-27\, 2023: Manchester\, United Kingdom. Effective Memorisation Strategies for Pianists (through reflection\, score’s silent reading\, and motor imagery). Royal Northern College of Music9. December 11\, 2022: New York City\, USA\, Piano Star International Piano Competition Adjudication10. November 29-28\, 2022: Pinerolo\, Italy. Workshop on Memorization for Pianists (Through Reflection and Silent Reading of the Score)11. November 16\, 2022\, 7:30 PM: DeLand\, FL\, USA. Great Pianists at Stetson\, Solo Recital\, Stetson University12. November 15\, 2022\, 7:00 PM: DeLand\, FL\, USA. Masterclass at Stetson University13. November 14\, 2022: Kent\, OH\, USA. Masterclass at Kent State University14. November 13\, 2022\, 5:00 PM: Kent\, OH\, USA. Solo Recital at Kent Keyboard Series (Kent State University)15. November 9\, 2022\, 7:30 PM (CST): Kansas City\, KS\, USA. Solo Recital in Grant Recital Hall at the University of Missouri-Kansas16. November 8\, 2022\, 4:00 PM: Lawrence\, Kansas\, USA. Masterclass in Swarthout Hall at the University of Kansas17. November 7\, 2022\, 3–5 PM (CST): Kansas City\, KS\, USA. Masterclass in Grant Recital Hall at the University of Missouri-Kansas City Conservatory of Music and Dance18. November 6\, 2022\, 5:00 PM: Lenexa\, Kansas\, USA. Masterclass at the Steinway Piano Gallery in Kansas City19. November 5\, 2022: Cape Girardeau\, Missouri\, USA. Featured Conference Artist. Solo Recital20. November 1\, 2022\, 7:30 PM: Norman\, Oklahoma\, USA. Solo Recital in Sharp Hall at the University of Oklahoma21. October 31\, 2022\, 1:00–3:00 PM: Norman\, Oklahoma\, USA. Masterclass in Pitman Hall at the University of Oklahoma22. October 26\, 2022\, at 4:30 PM: Boston\, MA\, USA. Masterclass at the Rivers School Conservatory23. October 24\, 2022\, at 3:45 PM: Boston\, MA\, USA. Masterclass at the Rivers School Conservatory24. October 24\, 2022\, from 10 AM to 12 PM: Boston\, MA\, USA. Masterclass at the Longy School of Music of Bard College25. October 16 at 2:30 PM\, Walter Hall\, Toronto\, ON\, Canada: the Goh Piano Debut – Solo Recital at the University of Toronto for the Inauguration of the Newly Selected Hamburg Steinway26. September 29\, 2022: Ithaca\, NY. Recording of Music by Composer Jorge Villavicencio Grossmann. Ithaca College27. September 28\, 2022: Ithaca\, NY. Recital with Solo Repertoire and a Collaboration with Mezzo-Soprano Ivy Walz and Composer Jorge Villavicencio Grossmann. Ithaca College28. September 27\, 2022\, from 6 to 8 PM: Ithaca\, NY. Masterclass at Ithaca College29. September 14\, 2022\, Florence\, South Carolina\, USA: Recital at Francis Marion University (FMU Artist Series\, Black Box Theatre)30. September 12\, 2022\, Conway\, South Carolina\, USA: Solo Recital at Coastal Carolina University (on Steinway Spirio-r\, with a simultaneous live broadcast on Spirio pianos in the entire state of South Carolina – at the presence of the President of Steinway\, NY)August 2-9\, 2022: San Francisco\, CA\, USA. Artciál International Piano Competition & Festival. Masterclasses and LessonsJuly 31-August 3\, 2022: Recanati\, Italy. Conero Festival (masterclass and adjudication of the competition’s final round)July 5-17\, 2022: Maiori\, Italy. Residency at the Amalfi Coast Music Festival (25th Anniversary). Faculty Showcase Recital\, Master Classes\, and Individual Lessons
URL:https://enricoelisipiano.com/event/may-25-2023-at-7-pm-nagoya-japan-masterclass-at-%e6%84%9b%e7%9f%a5%e7%9c%8c%e7%ab%8b%e8%8a%b8%e8%a1%93%e5%a4%a7%e5%ad%a6-aichi-prefectural-university-of-the-arts/
LOCATION:Aichi Prefectural University of the Arts\, 480-1103 Aichi\, Nagakute\, Yazako\, Sagamine−1−114\, 480-1103 Nagakute\, Yazako\, Sagamine\, Aichi\, 1−114\, Japan
ORGANIZER;CN="Aichi Prefectural University of the Arts":MAILTO:https://aigeiweb-form.jp/form.php?form=58089905f422b
END:VEVENT
BEGIN:VEVENT
DTSTART;TZID=Asia/Tokyo:20230526T103000
DTEND;TZID=Asia/Tokyo:20230526T123000
DTSTAMP:20260422T181251
CREATED:20230228T143309Z
LAST-MODIFIED:20230521T111425Z
UID:3983-1685097000-1685104200@enricoelisipiano.com
SUMMARY:May 26\, 2023 from 10:30 to 12:30 pm: Nagoya\, Japan. Masterclass at Aichi Prefectural Meiwa High School
DESCRIPTION:Latest events: \n—July 2022 to August 20231. July 27 – August 10\, 2023: Recanati\, Italy. Conero Festival. (Chinese students-only\, with a translator\, festival from July 27 to 31; other international students–including Chinese speaking students from August 1 to 10.)2. July 5-17\, 2023: Maiori\, Italy. Residency at the Amalfi Coast Music Festival. Faculty Showcase\, Faculty Recital\, Master Classes\, and Individual Lessons3. June 3-11\, 2023: San Marcos\, TX\, USA. Texas State International Piano Festival. Master Classes\, Individual Lessons\, and Adjudication of the TSIPF International Piano Competition4. May 28 – June 5\, 2023: Ottawa\, ON\, Canada. The Hnatyshyn Foundation: Adjudication of the $10\,000 Developing Artist Grants5. May 26\, 2023: Nagoya\, Japan. Masterclass at Aichi Prefectural Meiwa High School6. May 25\, 2023: Nagoya\, Japan. Masterclass and recital at 愛知県立芸術大学 (Aichi Prefectural University of the Arts)7. April 24-25\, 2023: London\, United Kingdom. Effective Memorisation Strategies for Pianists (through reflection\, score’s silent reading\, and motor imagery)\, Royal College of Music8. April 26-27\, 2023: Manchester\, United Kingdom. Effective Memorisation Strategies for Pianists (through reflection\, score’s silent reading\, and motor imagery). Royal Northern College of Music9. December 11\, 2022: New York City\, USA\, Piano Star International Piano Competition Adjudication10. November 29-28\, 2022: Pinerolo\, Italy. Workshop on Memorization for Pianists (Through Reflection and Silent Reading of the Score)11. November 16\, 2022\, 7:30 PM: DeLand\, FL\, USA. Great Pianists at Stetson\, Solo Recital\, Stetson University12. November 15\, 2022\, 7:00 PM: DeLand\, FL\, USA. Masterclass at Stetson University13. November 14\, 2022: Kent\, OH\, USA. Masterclass at Kent State University14. November 13\, 2022\, 5:00 PM: Kent\, OH\, USA. Solo Recital at Kent Keyboard Series (Kent State University)15. November 9\, 2022\, 7:30 PM (CST): Kansas City\, KS\, USA. Solo Recital in Grant Recital Hall at the University of Missouri-Kansas16. November 8\, 2022\, 4:00 PM: Lawrence\, Kansas\, USA. Masterclass in Swarthout Hall at the University of Kansas17. November 7\, 2022\, 3–5 PM (CST): Kansas City\, KS\, USA. Masterclass in Grant Recital Hall at the University of Missouri-Kansas City Conservatory of Music and Dance18. November 6\, 2022\, 5:00 PM: Lenexa\, Kansas\, USA. Masterclass at the Steinway Piano Gallery in Kansas City19. November 5\, 2022: Cape Girardeau\, Missouri\, USA. Featured Conference Artist. Solo Recital20. November 1\, 2022\, 7:30 PM: Norman\, Oklahoma\, USA. Solo Recital in Sharp Hall at the University of Oklahoma21. October 31\, 2022\, 1:00–3:00 PM: Norman\, Oklahoma\, USA. Masterclass in Pitman Hall at the University of Oklahoma22. October 26\, 2022\, at 4:30 PM: Boston\, MA\, USA. Masterclass at the Rivers School Conservatory23. October 24\, 2022\, at 3:45 PM: Boston\, MA\, USA. Masterclass at the Rivers School Conservatory24. October 24\, 2022\, from 10 AM to 12 PM: Boston\, MA\, USA. Masterclass at the Longy School of Music of Bard College25. October 16 at 2:30 PM\, Walter Hall\, Toronto\, ON\, Canada: the Goh Piano Debut – Solo Recital at the University of Toronto for the Inauguration of the Newly Selected Hamburg Steinway26. September 29\, 2022: Ithaca\, NY. Recording of Music by Composer Jorge Villavicencio Grossmann. Ithaca College27. September 28\, 2022: Ithaca\, NY. Recital with Solo Repertoire and a Collaboration with Mezzo-Soprano Ivy Walz and Composer Jorge Villavicencio Grossmann. Ithaca College28. September 27\, 2022\, from 6 to 8 PM: Ithaca\, NY. Masterclass at Ithaca College29. September 14\, 2022\, Florence\, South Carolina\, USA: Recital at Francis Marion University (FMU Artist Series\, Black Box Theatre)30. September 12\, 2022\, Conway\, South Carolina\, USA: Solo Recital at Coastal Carolina University (on Steinway Spirio-r\, with a simultaneous live broadcast on Spirio pianos in the entire state of South Carolina – at the presence of the President of Steinway\, NY)August 2-9\, 2022: San Francisco\, CA\, USA. Artciál International Piano Competition & Festival. Masterclasses and LessonsJuly 31-August 3\, 2022: Recanati\, Italy. Conero Festival (masterclass and adjudication of the competition’s final round)July 5-17\, 2022: Maiori\, Italy. Residency at the Amalfi Coast Music Festival (25th Anniversary). Faculty Showcase Recital\, Master Classes\, and Individual Lessons
URL:https://enricoelisipiano.com/event/may-26-2023-nagoya-japan-masterclass-at-aichi-prefectural-meiwa-high-school/
LOCATION:AICHI PREFECTURAL MEIWA HIGH SCHOOL\, 2-32-6 Shirakabe Higashi-ku\, Nagoya City\, 461-0011
ORGANIZER;CN="Meiwa High School":MAILTO:seitokai@meiwa.website
END:VEVENT
END:VCALENDAR