BEGIN:VCALENDAR
VERSION:2.0
PRODID:-//Enrico Elisi - ECPv6.15.3//NONSGML v1.0//EN
CALSCALE:GREGORIAN
METHOD:PUBLISH
X-WR-CALNAME:Enrico Elisi
X-ORIGINAL-URL:https://enricoelisipiano.com
X-WR-CALDESC:Events for Enrico Elisi
REFRESH-INTERVAL;VALUE=DURATION:PT1H
X-Robots-Tag:noindex
X-PUBLISHED-TTL:PT1H
BEGIN:VTIMEZONE
TZID:America/New_York
BEGIN:DAYLIGHT
TZOFFSETFROM:-0500
TZOFFSETTO:-0400
TZNAME:EDT
DTSTART:20230312T070000
END:DAYLIGHT
BEGIN:STANDARD
TZOFFSETFROM:-0400
TZOFFSETTO:-0500
TZNAME:EST
DTSTART:20231105T060000
END:STANDARD
END:VTIMEZONE
BEGIN:VEVENT
DTSTART;VALUE=DATE:20230705
DTEND;VALUE=DATE:20230718
DTSTAMP:20260422T144456
CREATED:20221218T125004Z
LAST-MODIFIED:20230507T051130Z
UID:3851-1688515200-1689638399@enricoelisipiano.com
SUMMARY:July 5 - 17\, 2023: Maiori\, Italy. Residency at the Amalfi Coast Music Festival. Faculty Showcase and Faculty Recitals\, Master Classes\, and Individual Lessons.
DESCRIPTION:  \nAlso\, please visit https://enricoelisipiano.com/festivals-2023/ \n  \n \n  \n  \nLatest events: \n—July 2022 to August 20231. July 27 – August 10\, 2023: Recanati\, Italy. Conero Festival. (Chinese students-only\, with a translator\, festival from July 27 to 31; other international students–including Chinese speaking students from August 1 to 10.)2. July 5-17\, 2023: Maiori\, Italy. Residency at the Amalfi Coast Music Festival. Faculty Showcase\, Faculty Recital\, Master Classes\, and Individual Lessons3. June 3-11\, 2023: San Marcos\, TX\, USA. Texas State International Piano Festival. Master Classes\, Individual Lessons\, and Adjudication of the TSIPF International Piano Competition4. May 28 – June 5\, 2023: Ottawa\, ON\, Canada. The Hnatyshyn Foundation: Adjudication of the $10\,000 Developing Artist Grants5. May 26\, 2023: Nagoya\, Japan. Masterclass at Aichi Prefectural Meiwa High School6. May 25\, 2023: Nagoya\, Japan. Masterclass and recital at 愛知県立芸術大学 (Aichi Prefectural University of the Arts)7. April 24-25\, 2023: London\, United Kingdom. Effective Memorisation Strategies for Pianists (through reflection\, score’s silent reading\, and motor imagery)\, Royal College of Music8. April 26-27\, 2023: Manchester\, United Kingdom. Effective Memorisation Strategies for Pianists (through reflection\, score’s silent reading\, and motor imagery). Royal Northern College of Music9. December 11\, 2022: New York City\, USA\, Piano Star International Piano Competition Adjudication10. November 29-28\, 2022: Pinerolo\, Italy. Workshop on Memorization for Pianists (Through Reflection and Silent Reading of the Score)11. November 16\, 2022\, 7:30 PM: DeLand\, FL\, USA. Great Pianists at Stetson\, Solo Recital\, Stetson University12. November 15\, 2022\, 7:00 PM: DeLand\, FL\, USA. Masterclass at Stetson University13. November 14\, 2022: Kent\, OH\, USA. Masterclass at Kent State University14. November 13\, 2022\, 5:00 PM: Kent\, OH\, USA. Solo Recital at Kent Keyboard Series (Kent State University)15. November 9\, 2022\, 7:30 PM (CST): Kansas City\, KS\, USA. Solo Recital in Grant Recital Hall at the University of Missouri-Kansas16. November 8\, 2022\, 4:00 PM: Lawrence\, Kansas\, USA. Masterclass in Swarthout Hall at the University of Kansas17. November 7\, 2022\, 3–5 PM (CST): Kansas City\, KS\, USA. Masterclass in Grant Recital Hall at the University of Missouri-Kansas City Conservatory of Music and Dance18. November 6\, 2022\, 5:00 PM: Lenexa\, Kansas\, USA. Masterclass at the Steinway Piano Gallery in Kansas City19. November 5\, 2022: Cape Girardeau\, Missouri\, USA. Featured Conference Artist. Solo Recital20. November 1\, 2022\, 7:30 PM: Norman\, Oklahoma\, USA. Solo Recital in Sharp Hall at the University of Oklahoma21. October 31\, 2022\, 1:00–3:00 PM: Norman\, Oklahoma\, USA. Masterclass in Pitman Hall at the University of Oklahoma22. October 26\, 2022\, at 4:30 PM: Boston\, MA\, USA. Masterclass at the Rivers School Conservatory23. October 24\, 2022\, at 3:45 PM: Boston\, MA\, USA. Masterclass at the Rivers School Conservatory24. October 24\, 2022\, from 10 AM to 12 PM: Boston\, MA\, USA. Masterclass at the Longy School of Music of Bard College25. October 16 at 2:30 PM\, Walter Hall\, Toronto\, ON\, Canada: the Goh Piano Debut – Solo Recital at the University of Toronto for the Inauguration of the Newly Selected Hamburg Steinway26. September 29\, 2022: Ithaca\, NY. Recording of Music by Composer Jorge Villavicencio Grossmann. Ithaca College27. September 28\, 2022: Ithaca\, NY. Recital with Solo Repertoire and a Collaboration with Mezzo-Soprano Ivy Walz and Composer Jorge Villavicencio Grossmann. Ithaca College28. September 27\, 2022\, from 6 to 8 PM: Ithaca\, NY. Masterclass at Ithaca College29. September 14\, 2022\, Florence\, South Carolina\, USA: Recital at Francis Marion University (FMU Artist Series\, Black Box Theatre)30. September 12\, 2022\, Conway\, South Carolina\, USA: Solo Recital at Coastal Carolina University (on Steinway Spirio-r\, with a simultaneous live broadcast on Spirio pianos in the entire state of South Carolina – at the presence of the President of Steinway\, NY)August 2-9\, 2022: San Francisco\, CA\, USA. Artciál International Piano Competition & Festival. Masterclasses and LessonsJuly 31-August 3\, 2022: Recanati\, Italy. Conero Festival (masterclass and adjudication of the competition’s final round)July 5-17\, 2022: Maiori\, Italy. Residency at the Amalfi Coast Music Festival (25th Anniversary). Faculty Showcase Recital\, Master Classes\, and Individual Lessons
URL:https://enricoelisipiano.com/event/july-5-17-2023-maiori-italy-residency-at-the-amalfi-coast-music-festival-faculty-showcase-and-faculty-recitals-master-classes-and-individual-lessons/
LOCATION:Maiori\, Maiori\, Italy
ORGANIZER;CN="Amalfi Coast Music Festival":MAILTO:music@amalfi-festival.org
END:VEVENT
BEGIN:VEVENT
DTSTART;VALUE=DATE:20230715
DTEND;VALUE=DATE:20230723
DTSTAMP:20260422T144456
CREATED:20230521T104522Z
LAST-MODIFIED:20230815T205453Z
UID:4100-1689379200-1690070399@enricoelisipiano.com
SUMMARY:July 15 - July 22\, 2023: Cheltenham\, Gloucestershire\, England\, United Kingdom. The Thinking Pianist Festival.
DESCRIPTION:The Cheltenham Ladies’ College.\nCheltenham Ladies’ College\, often called CLC\, is a renowned independent girls’ school with a rich history dating back to its founding in 1853. The college was established by Dorothea Beale\, an influential figure in women’s education in the 19th century. Beale aimed to provide girls with education on par with the standards of the best boys’ schools of the time. \nThe college began with 82 pupils and was situated in a single house on Bayshill Road\, Cheltenham. However\, it quickly gained a reputation for its high academic standards and innovative approach to education. Under Beale’s leadership\, the college introduced a broad curriculum that included languages\, sciences\, mathematics\, history\, literature\, and more. \nThroughout its history\, Cheltenham Ladies’ College has remained committed to providing a well-rounded education\, emphasizing intellectual development\, character formation\, and personal growth. The college has continuously adapted to societal changes and educational advancements while upholding its core values. \n \nOver the years\, the college has expanded its campus\, adding new buildings and facilities to accommodate the growing number of students. Today\, Cheltenham Ladies’ College is known for its beautiful Victorian architecture\, picturesque grounds\, and state-of-the-art facilities. \nThe college has educated many notable alumnae who have excelled in various fields\, including literature\, politics\, science\, arts\, and business. Cheltenham Ladies’ College maintains its reputation as a leading institution for girls’ education in the United Kingdom and attracts students worldwide. \n \nCore course activities will include; \n\nLessons\, masterclasses\, and workshops with distinguished Faculty\, joined by visiting specialists who will deliver other classes and concerts.\nOpportunities to rehearse and perform ensembles\, i.e.\, duet\, two pianos (3+ hands!)\nCourse concerts with the opportunity to perform with like-minded fellow pianists!\nThe “Teaching is Learning” strand of seminars and workshops offers insight into the multiple synergies of these two activities:  trying to teach any skill is a guaranteed improvement method!\nFundamentals of Piano Pedagogy offers an optional\, parallel mini-course on the basics of teaching. This can be a starting point for early-career piano teachers or a refresher for those with more experience.\n\n 
URL:https://enricoelisipiano.com/event/july-15-july-22-cheltenham-gloucestershire-england-united-kingdom-the-thinking-pianist-festival/
END:VEVENT
END:VCALENDAR