BEGIN:VCALENDAR
VERSION:2.0
PRODID:-//Enrico Elisi - ECPv6.15.3//NONSGML v1.0//EN
CALSCALE:GREGORIAN
METHOD:PUBLISH
X-ORIGINAL-URL:https://enricoelisipiano.com
X-WR-CALDESC:Events for Enrico Elisi
REFRESH-INTERVAL;VALUE=DURATION:PT1H
X-Robots-Tag:noindex
X-PUBLISHED-TTL:PT1H
BEGIN:VTIMEZONE
TZID:America/New_York
BEGIN:DAYLIGHT
TZOFFSETFROM:-0500
TZOFFSETTO:-0400
TZNAME:EDT
DTSTART:20240310T070000
END:DAYLIGHT
BEGIN:STANDARD
TZOFFSETFROM:-0400
TZOFFSETTO:-0500
TZNAME:EST
DTSTART:20241103T060000
END:STANDARD
END:VTIMEZONE
BEGIN:VEVENT
DTSTART;VALUE=DATE:20240101
DTEND;VALUE=DATE:20240102
DTSTAMP:20260422T040120
CREATED:20231003T190926Z
LAST-MODIFIED:20231222T143348Z
UID:4350-1704067200-1704153599@enricoelisipiano.com
SUMMARY:January 1\, 2024\, Beijing. China: New Year's Concert at 卡文迪音乐厅 (Cavendish Concert Hall).  Solo\, Four-Hand\, and Two-Piano Recital.
DESCRIPTION:演出地点：卡文迪音乐厅\nVenue: Cavendish Concert Hall \nEnrico Elisi and Mengyang Pan\, pianists \nOrganized by: 北京瑞音天地文化艺术有限公司 \nBeijing Ruiyin Tiandi Culture and Art Co.\, Ltd. \n \nProgram: \nRobert Schumann (1810–1856) \nStudien für den Pedal-Flügel (6 Pieces in Canonic Form) (1845) — Arrangement for two pianos by Claude Debussy (1891) \nNo. 1 Pas trop vite\nNo. 3 Andantino – Un peu plus aimé – Tempo I \nJohannes Brahms (1833–1897) \nFrom 21 Hungarian Dances\, Book 1 (1868) \n1.     in G Minor: Allegro molto\n2.     in D Minor: Allegro non assai – Vivace\n3.     in F Major: Allegretto\n4.     in F Minor: Poco sostenuto – Vivace\n5.     in F-Sharp Minor: Allegro – Vivace \nEnrico Elisi and Mengyang Pan \n  \nFranz Liszt (1811–1886) \nRhapsody No. 13 in A minor\, S. 244 \nEnrico Elisi \nFranz Liszt (1811–1886) — Richard Wagner (1813–1883) \nIsoldes Liebestod (1867)\, S. 447 \n  \nFranz Liszt (1811–1886) \nFrom Grandes études de Paganini S. 141\nNo. 6 in A Minor\, Theme and Variations \nMengyang Pan \n  \nGabriel Fauré (1845–1924) \nDolly (1894–6) \n1.     Berceuse\n2.     Mi-a-ou\n3.     Le jardin de Dolly\n4.     Kitty-Valse\n5.     Tendresse\n6.     Le pas espagnol \nAstor Piazzolla (1921–1992) \nLiebertango (1974) \nDarius Milhaud (1892–1974) \nScaramouche\, Suite pour Deux Pianos (1937)\nI. Vif\nII. Modéré\nIII. Brazileira \nEnrico Elisi and Mengyang Pan \n 
URL:https://enricoelisipiano.com/event/december-26-2023-january-9-2024-china-tour-recitals-and-masterclasses/
END:VEVENT
BEGIN:VEVENT
DTSTART;VALUE=DATE:20240102
DTEND;VALUE=DATE:20240103
DTSTAMP:20260422T040120
CREATED:20231222T143525Z
LAST-MODIFIED:20231222T144056Z
UID:4491-1704153600-1704239999@enricoelisipiano.com
SUMMARY:January 2\, 2024\, Beijing. China: Masterclasses
DESCRIPTION:Venue: TBA.
URL:https://enricoelisipiano.com/event/january-2-2024-beijing-china-masterclass/
END:VEVENT
BEGIN:VEVENT
DTSTART;VALUE=DATE:20240106
DTEND;VALUE=DATE:20240107
DTSTAMP:20260422T040120
CREATED:20231222T150815Z
LAST-MODIFIED:20231222T152212Z
UID:4495-1704499200-1704585599@enricoelisipiano.com
SUMMARY:January 6\, 2024\, Beijing. China: Steinway & Sons Shunyi Recital Hall. Piano Recital. Music for Piano Four Hands.
DESCRIPTION:Venue: Steinway & Sons Shunyi Recital Hall\, \nAddress: No. 111\, No. 13\, No. 6\, Antai Street\, Xiangyun Town\, Shunyi District\, Beijing \nTel: 010-81895666 \n \nEnrico Elisi and Mengyang Pan\, pianists \nOrganized by: 北京瑞音天地文化艺术有限公司 \nBeijing Ruiyin Tiandi Culture and Art Co.\, Ltd. \n  \nProgram: \n  \nClaude Debussy (1862-1928) 克劳德·德彪⻄ \nPetite Suite(1889) 小组曲. \n1.En bateau – 在船上 \n2.Cortège – 行列 \n3.Menuet – 小步舞曲 \n4.Ballet – 芭蕾 \n  \nAstor Piazzolla (1921–1992) 阿斯托尔·皮亚佐拉 \nLiebertango (1974) 列博探戈. \n  \nGabriel Fauré (1845–1924) 加布里埃尔·福莱 \nDolly (1894–6)\n多莉 \n1.Berceuse – 摇篮曲 \n2.Mi-a-ou – 喵喵 \n3.Le jardin de Dolly – 多莉的花园 \n4.Kitty-Valse – 凯蒂华尔兹 \n5.Tendresse – 深情 \n6.Le pas espagnol – ⻄班牙步舞 \n  \nJohannes Brahms (1833–1897) 约翰内斯·布拉姆斯 \nFrom 21 Hungarian Dances\, Book 1 (1868)。 匈牙利舞曲第一册(1868年)\nBook 1: \nJohannes Brahms (1833–1897) 约翰内斯·布拉姆斯 \n1. in G Minor: Allegro molto G小调: 极快板 \n2. in D Minor: Allegro non assai – Vivace D小调:不太快的快板 – 快板 \n3. in F Major: Allegretto F大调:小快板 \n4. in F Minor: Poco sostenuto – Vivace F小调: 稍持续的快板 – 快板 \n5. in F-Sharp Minor: Allegro – Vivace F♯小调: 快板 – 快板 \n  \nEnrico Elisi and Mengyang Pan \n \n 
URL:https://enricoelisipiano.com/event/january-6-2024-beijing-china-steinway-sons-recital-hall-piano-recital-music-for-piano-four-hands/
LOCATION:Steinway Shunyi Beijing\, No. 111\, No. 13\, No. 6\, Antai Street\, Xiangyun Town\, Xiangyun Town\, Shunyi District\, China
END:VEVENT
BEGIN:VEVENT
DTSTART;VALUE=DATE:20240117
DTEND;VALUE=DATE:20240124
DTSTAMP:20260422T040120
CREATED:20231004T162729Z
LAST-MODIFIED:20231004T164051Z
UID:4367-1705449600-1706054399@enricoelisipiano.com
SUMMARY:January 17-23\, 2024: Namhae\, South Korea. Namhae International Piano Academy & Festival (Masterclasses and Individual Lessons)
DESCRIPTION:2024 Namhae International Piano Academy & Festival\n  \nGuide to Namhae \nPhotos \nNamhae\, Korea’s fifth largest island\, is famous for its slower pace of life\, beautiful sea\, and stunning nature. The drive around the island is arguably one of the most scenic routes in Korea. Rugged ocean view\, dense forests\, a tiny fishing village untouched by tourism\, and paddy fields. The entire island is a real gem. \nNamhae is surrounded by 79 smaller islands\, making the surrounding Ocean’s views unique. In addition\, the area sits right in the heart of the Hallyeohaesang Marine National Park\, which stretches from Geojedo Island in South Gyeongsang Province (Gyeongsangnam-do)\, to Yeosu in South Jeolla Province (Jeollanam-do). \nFor most people\, Namhae is associated with the sea and crystal clear ocean. However\, Namhae used to be called Hwajeon\, which means fields of flowers\, as with the arrival of spring\, all mountains are covered with beautiful and colorful flowers. \nNamhae also celebrates many events\, such as the Bomulseom Mijo Anchovy Festival\, the Oktoberfest in the German Village\, and the Admiral Yi Sun-sin Festival. \n 
URL:https://enricoelisipiano.com/event/january-17-23-2024-namhae-south-korea-namhae-international-piano-academy-festival-masterclasses-and-individual-lessons/
LOCATION:Namhae\, 74-19\, Dongbu-daero 1122beon-gil\, Samdong-myeon\, Namhae-gun\, Gyeongsangnam-do\, Korea\, Republic of
END:VEVENT
END:VCALENDAR