BEGIN:VCALENDAR
VERSION:2.0
PRODID:-//Enrico Elisi - ECPv6.15.3//NONSGML v1.0//EN
CALSCALE:GREGORIAN
METHOD:PUBLISH
X-ORIGINAL-URL:https://enricoelisipiano.com
X-WR-CALDESC:Events for Enrico Elisi
REFRESH-INTERVAL;VALUE=DURATION:PT1H
X-Robots-Tag:noindex
X-PUBLISHED-TTL:PT1H
BEGIN:VTIMEZONE
TZID:America/New_York
BEGIN:DAYLIGHT
TZOFFSETFROM:-0500
TZOFFSETTO:-0400
TZNAME:EDT
DTSTART:20240310T070000
END:DAYLIGHT
BEGIN:STANDARD
TZOFFSETFROM:-0400
TZOFFSETTO:-0500
TZNAME:EST
DTSTART:20241103T060000
END:STANDARD
END:VTIMEZONE
BEGIN:VTIMEZONE
TZID:America/Chicago
BEGIN:DAYLIGHT
TZOFFSETFROM:-0600
TZOFFSETTO:-0500
TZNAME:CDT
DTSTART:20240310T080000
END:DAYLIGHT
BEGIN:STANDARD
TZOFFSETFROM:-0500
TZOFFSETTO:-0600
TZNAME:CST
DTSTART:20241103T070000
END:STANDARD
END:VTIMEZONE
BEGIN:VEVENT
DTSTART;VALUE=DATE:20240221
DTEND;VALUE=DATE:20240222
DTSTAMP:20260422T020113
CREATED:20230916T044016Z
LAST-MODIFIED:20231007T062402Z
UID:4290-1708473600-1708559999@enricoelisipiano.com
SUMMARY:February 21\, 2024 (Time TBA): Springfield\, Missouri\, USA. Effective Memorization Strategies for Pianists — Mental Practice Workshop at Missouri State University
DESCRIPTION:Effective Memorization Strategies for Pianists — Mental Practice Workshop by Enrico Elisi  \n\n\n\n\nWorkshop Study pathway:\n\nThe present workshop on effective memorization strategies based on mental practice illustrates techniques by which someone intending to practice creates a mental representation of a preconceived idea or action to enhance performance. Through increased focus and concentration\, pianists will learn how to study portions of a score in their minds without spending considerable time at the piano. \nAmong the techniques illustrated in this workshop are: \n\nMotor imagery (visualizing the feeling of moving the fingers).\nOrganizing groupings found in the text (also through formal\, melodic\, and rhythmic analysis).\nSinging and feeling intervallic relationships.\nScene memory (rapid eye movements to identify the next position on the key).\nSwitches (slight changes of patterns often resulting in memory slips).\n\nThese tools are helpful\, and while they cannot replace the actual practicing at the keyboard\, they are invaluable mental rehearsal devices.
URL:https://enricoelisipiano.com/event/february-25-2024-springfield-missouri-usa-effective-memorization-strategies-for-pianists-mental-practice-workshop-at-missouri-state-university/
LOCATION:Missouri State University\, 901 S. National Ave.\, Springfield\, MO\, 65897\, United States
ORGANIZER;CN="Missouri State University":MAILTO:Info@MissouriState.edu
END:VEVENT
BEGIN:VEVENT
DTSTART;VALUE=DATE:20240222
DTEND;VALUE=DATE:20240223
DTSTAMP:20260422T020113
CREATED:20231007T062538Z
LAST-MODIFIED:20231007T062554Z
UID:4376-1708560000-1708646399@enricoelisipiano.com
SUMMARY:February 22\, 2024: Springfield\, Missouri\, USA. Effective Memorization Strategies for Pianists — Mental Practice Workshop Followed by a Masterclass at Missouri State University
DESCRIPTION:Effective Memorization Strategies for Pianists — Mental Practice Workshop by Enrico Elisi  \n\n\n\n\nWorkshop Study pathway:\n\nThe present workshop on effective memorization strategies based on mental practice illustrates techniques by which someone intending to practice creates a mental representation of a preconceived idea or action to enhance performance. Through increased focus and concentration\, pianists will learn how to study portions of a score in their minds without spending considerable time at the piano. \nAmong the techniques illustrated in this workshop are: \n\nMotor imagery (visualizing the feeling of moving the fingers).\nOrganizing groupings found in the text (also through formal\, melodic\, and rhythmic analysis).\nSinging and feeling intervallic relationships.\nScene memory (rapid eye movements to identify the next position on the key).\nSwitches (slight changes of patterns often resulting in memory slips).\n\nThese tools are helpful\, and while they cannot replace the actual practicing at the keyboard\, they are invaluable mental rehearsal devices. \n\nA Masterclass will follow the workshop. (Time TBA.)
URL:https://enricoelisipiano.com/event/february-25-2024-springfield-missouri-usa-effective-memorization-strategies-for-pianists-mental-practice-workshop-followed-by-a-masterclass-at-missouri-state-university/
LOCATION:Missouri State University\, 901 S. National Ave.\, Springfield\, MO\, 65897\, United States
ORGANIZER;CN="Missouri State University":MAILTO:Info@MissouriState.edu
END:VEVENT
BEGIN:VEVENT
DTSTART;TZID=America/New_York:20240223T193000
DTEND;TZID=America/New_York:20240223T210000
DTSTAMP:20260422T020113
CREATED:20230916T042950Z
LAST-MODIFIED:20230916T043555Z
UID:4285-1708716600-1708722000@enricoelisipiano.com
SUMMARY:February 23\, 2024\, 7:30 p.m.: Springfield\, Missouri\, USA. Recital at Missouri State University
DESCRIPTION:Recital repertoire to be defined.
URL:https://enricoelisipiano.com/event/february-23-2024-730-p-m-springfield-missouri-usa-recital-at-missouri-state-university/
LOCATION:Missouri State University\, 901 S. National Ave.\, Springfield\, MO\, 65897\, United States
ORGANIZER;CN="Missouri State University":MAILTO:Info@MissouriState.edu
END:VEVENT
BEGIN:VEVENT
DTSTART;VALUE=DATE:20240224
DTEND;VALUE=DATE:20240225
DTSTAMP:20260422T020113
CREATED:20231007T062139Z
LAST-MODIFIED:20231007T062139Z
UID:4374-1708732800-1708819199@enricoelisipiano.com
SUMMARY:February 24\, 2024 : Springfield\, Missouri\, USA. Adjudication of the Conero Competition Semi-Final Round at Missouri State University
DESCRIPTION:
URL:https://enricoelisipiano.com/event/february-24-2024-springfield-missouri-usa-adjudication-of-the-conero-competition-semi-final-round-at-missouri-state-university/
LOCATION:Missouri State University\, 901 S. National Ave.\, Springfield\, MO\, 65897\, United States
ORGANIZER;CN="Missouri State University":MAILTO:Info@MissouriState.edu
END:VEVENT
BEGIN:VEVENT
DTSTART;TZID=America/Chicago:20240228T193000
DTEND;TZID=America/Chicago:20240228T213000
DTSTAMP:20260422T020113
CREATED:20230916T052619Z
LAST-MODIFIED:20231003T173648Z
UID:4292-1709148600-1709155800@enricoelisipiano.com
SUMMARY:February 28\, 2024 at 7:30 pm: Fort Worth\, TX\, USA.  Van Cliburn Concert Hall at TCU. Mozart Concerto for Two Pianos and Orchestra\, K. 365 with John Owings and the TCU Symphony Orchestra Lead by Germán Gutiérrez
DESCRIPTION:Join us for a celebratory night where the TCU Concerto Competition winners will open the concert and pianists Enrico Elisi and John Owings will conclude the soiree with Mozart Concerto for Two Pianos and Orchestra in E-Flat Major\, K. 365 performed with the TCU Symphony Orchestra lead by Maestro Germán Gutiérrez.
URL:https://enricoelisipiano.com/event/february-28-2024-at-730-pm-fort-worth-tx-usa-van-cliburn-concert-hall-mozart-concerto-for-two-pianos-and-orchestra-k-365-with-john-owings-and-the-tcu-symphony-orchestra-lead-by-german-gutier/
LOCATION:Van Cliburn Concert Hall at TCU\, 2900 W Lowden St.\, Fort Worth\, TX\, 76109\, United States
ORGANIZER;CN="Texas Christian University School of Music":MAILTO:music@tcu.edu
END:VEVENT
END:VCALENDAR