BEGIN:VCALENDAR
VERSION:2.0
PRODID:-//Enrico Elisi - ECPv6.15.3//NONSGML v1.0//EN
CALSCALE:GREGORIAN
METHOD:PUBLISH
X-ORIGINAL-URL:https://enricoelisipiano.com
X-WR-CALDESC:Events for Enrico Elisi
REFRESH-INTERVAL;VALUE=DURATION:PT1H
X-Robots-Tag:noindex
X-PUBLISHED-TTL:PT1H
BEGIN:VTIMEZONE
TZID:America/Los_Angeles
BEGIN:DAYLIGHT
TZOFFSETFROM:-0800
TZOFFSETTO:-0700
TZNAME:PDT
DTSTART:20240310T100000
END:DAYLIGHT
BEGIN:STANDARD
TZOFFSETFROM:-0700
TZOFFSETTO:-0800
TZNAME:PST
DTSTART:20241103T090000
END:STANDARD
END:VTIMEZONE
BEGIN:VTIMEZONE
TZID:America/New_York
BEGIN:DAYLIGHT
TZOFFSETFROM:-0500
TZOFFSETTO:-0400
TZNAME:EDT
DTSTART:20240310T070000
END:DAYLIGHT
BEGIN:STANDARD
TZOFFSETFROM:-0400
TZOFFSETTO:-0500
TZNAME:EST
DTSTART:20241103T060000
END:STANDARD
END:VTIMEZONE
BEGIN:VEVENT
DTSTART;TZID=America/Los_Angeles:20240307T190000
DTEND;TZID=America/Los_Angeles:20240307T190000
DTSTAMP:20260422T002538
CREATED:20231007T063657Z
LAST-MODIFIED:20231214T201309Z
UID:4380-1709838000-1709838000@enricoelisipiano.com
SUMMARY:March 7\, 2024: Fullerton\, Orange County\, CA\, USA. Recital at California State University\, Fullerton
DESCRIPTION:Recital repertoire to be defined. \nLocation: Meng Concert Hall. \nTime: TB \nPresented by Cal State Fullerton (CSUF)\, College of the Arts – School of Music\, Fullerton CA
URL:https://enricoelisipiano.com/event/march-10-2024-fullerton-orange-county-ca-usa-recital-at-california-state-university-fullerton/
LOCATION:California State University\, Fullerton\, 800 N. State College Blvd.\, Fullerton\, CA\, 92831\, United States
ORGANIZER;CN="California State University%2C Fullerton":MAILTO:pshirts@fullerton.edu
END:VEVENT
BEGIN:VEVENT
DTSTART;TZID=America/Los_Angeles:20240308T110000
DTEND;TZID=America/Los_Angeles:20240308T130000
DTSTAMP:20260422T002538
CREATED:20231007T064011Z
LAST-MODIFIED:20231214T201230Z
UID:4384-1709895600-1709902800@enricoelisipiano.com
SUMMARY:March 8\, 2024: Fullerton\, Orange County\, CA\, USA. Masterclass at California State University\, Fullerton
DESCRIPTION:Presented by Cal State Fullerton (CSUF)\, College of the Arts – School of Music\, Fullerton CA
URL:https://enricoelisipiano.com/event/march-11-2024-tentative-date-tbc-fullerton-orange-county-ca-usa-masterclass-at-california-state-university-fullerton/
LOCATION:California State University\, Fullerton\, 800 N. State College Blvd.\, Fullerton\, CA\, 92831\, United States
ORGANIZER;CN="California State University%2C Fullerton":MAILTO:pshirts@fullerton.edu
END:VEVENT
BEGIN:VEVENT
DTSTART;TZID=America/Los_Angeles:20240310T150000
DTEND;TZID=America/Los_Angeles:20240310T170000
DTSTAMP:20260422T002538
CREATED:20240130T110230Z
LAST-MODIFIED:20240131T000240Z
UID:4439-1710082800-1710090000@enricoelisipiano.com
SUMMARY:March 10\, 2024 at 3 PM: Fullerton\, Orange County\, CA\, USA. Two-Piano Recital with Mengyang Pan at California State University\, Fullerton
DESCRIPTION:Two-Piano Recital Repertoire: \n  \n\nSonata for two pianos in D major\, KV.448 – W. A. Mozart\nFrom Six Studies in Canon Form\, Op. 56 – R. Schumann\n\nNo. 1\, Nicht zu schnell\nNo. 3\, Andantino\n\n\nHungarian Dances\, Nos. 1-5  – J. Brahms\n\n———————————— — INTERMISSION——————————————  \n\nDolly – G. Fauré\nLiebertango – A. Piazzolla\nScaramouche – D. Milhaud\n\n  \nLocation: Meng Concert Hall. March 10\, 2024. Time: 3 p.m. \nPresented by Cal State Fullerton (CSUF)\, College of the Arts – School of Music\, Fullerton CA
URL:https://enricoelisipiano.com/event/march-10-2024-at-3-pm-fullerton-orange-county-ca-usa-two-piano-recital-with-mengyang-pan-at-california-state-university-fullerton/
LOCATION:California State University\, Fullerton\, 800 N. State College Blvd.\, Fullerton\, CA\, 92831\, United States
ORGANIZER;CN="California State University%2C Fullerton":MAILTO:pshirts@fullerton.edu
END:VEVENT
BEGIN:VEVENT
DTSTART;VALUE=DATE:20240311
DTEND;VALUE=DATE:20240312
DTSTAMP:20260422T002538
CREATED:20231214T202534Z
LAST-MODIFIED:20231214T202534Z
UID:4448-1710115200-1710201599@enricoelisipiano.com
SUMMARY:March 11 2024: Los Angeles\, USA. Masterclass at Colburn Music Academy
DESCRIPTION:
URL:https://enricoelisipiano.com/event/march-11-2024-los-angeles-usa-masterclass-at-colburn-music-academy/
LOCATION:Colburn Music Academy\, 200 South Grand Avenue Los Angeles\, CA 90012\, Los Angeles\, CA\, 90012\, United States
ORGANIZER;CN="Colburn Music Academy":MAILTO:musicacademy@colburnschool.edu
END:VEVENT
END:VCALENDAR