BEGIN:VCALENDAR
VERSION:2.0
PRODID:-//Enrico Elisi - ECPv6.15.3//NONSGML v1.0//EN
CALSCALE:GREGORIAN
METHOD:PUBLISH
X-ORIGINAL-URL:https://enricoelisipiano.com
X-WR-CALDESC:Events for Enrico Elisi
REFRESH-INTERVAL;VALUE=DURATION:PT1H
X-Robots-Tag:noindex
X-PUBLISHED-TTL:PT1H
BEGIN:VTIMEZONE
TZID:Asia/Jakarta
BEGIN:STANDARD
TZOFFSETFROM:+0700
TZOFFSETTO:+0700
TZNAME:WIB
DTSTART:20240101T000000
END:STANDARD
END:VTIMEZONE
BEGIN:VTIMEZONE
TZID:America/Chicago
BEGIN:DAYLIGHT
TZOFFSETFROM:-0600
TZOFFSETTO:-0500
TZNAME:CDT
DTSTART:20240310T080000
END:DAYLIGHT
BEGIN:STANDARD
TZOFFSETFROM:-0500
TZOFFSETTO:-0600
TZNAME:CST
DTSTART:20241103T070000
END:STANDARD
END:VTIMEZONE
BEGIN:VTIMEZONE
TZID:America/New_York
BEGIN:DAYLIGHT
TZOFFSETFROM:-0500
TZOFFSETTO:-0400
TZNAME:EDT
DTSTART:20240310T070000
END:DAYLIGHT
BEGIN:STANDARD
TZOFFSETFROM:-0400
TZOFFSETTO:-0500
TZNAME:EST
DTSTART:20241103T060000
END:STANDARD
END:VTIMEZONE
BEGIN:VEVENT
DTSTART;VALUE=DATE:20240402
DTEND;VALUE=DATE:20240403
DTSTAMP:20260421T222906
CREATED:20240411T181251Z
LAST-MODIFIED:20240413T233257Z
UID:4580-1712016000-1712102399@enricoelisipiano.com
SUMMARY:April 4\, 2024: Jakarta\, Indonesia. Elisi-Pan Piano Duo Residency. Effective Memorization Strategies for Pianists (Mental Practice Workshop) at Pelita Harapan University
DESCRIPTION:Effective Memorization Strategies for Pianists — Mental Practice Workshop by Enrico Elisi \n\n\n\nThe present workshop on effective memorization strategies based on mental practice illustrates techniques by which someone intending to practice creates a mental representation of a preconceived idea or action to enhance performance. Through increased focus and concentration\, pianists will learn how to study portions of a score in their minds without spending considerable time at the piano. \nAmong the techniques illustrated in this workshop are: \n\nMotor imagery (visualizing the feeling of moving the fingers).\nOrganizing groupings found in the text (also through formal\, melodic\, and rhythmic analysis).\nSinging and feeling intervallic relationships.\nScene memory (rapid eye movements to identify the next position on the key).\nSwitches (slight changes of patterns often resulting in memory slips).\n\nThese tools are helpful\, and while they cannot replace actual keyboard practice\, they are invaluable mental rehearsal devices.
URL:https://enricoelisipiano.com/event/april-4-2024-jakarta-indonesia-elisi-pan-piano-duo-residency-effective-memorization-strategies-for-pianists-mental-practice-workshop-at-pelita-harapan-university/
END:VEVENT
BEGIN:VEVENT
DTSTART;VALUE=DATE:20240404
DTEND;VALUE=DATE:20240405
DTSTAMP:20260421T222906
CREATED:20240411T174725Z
LAST-MODIFIED:20240411T174817Z
UID:4576-1712188800-1712275199@enricoelisipiano.com
SUMMARY:April 4\, 2024: Jakarta\, Indonesia. Elisi-Pan Piano Duo Residency. Effective Memorization Strategies for Pianists (Mental Practice Workshop) at the Jakarta Conservatory
DESCRIPTION:Effective Memorization Strategies for Pianists — Mental Practice Workshop by Enrico Elisi \n\n\n\nThe present workshop on effective memorization strategies based on mental practice illustrates techniques by which someone intending to practice creates a mental representation of a preconceived idea or action to enhance performance. Through increased focus and concentration\, pianists will learn how to study portions of a score in their minds without spending considerable time at the piano. \nAmong the techniques illustrated in this workshop are: \n\nMotor imagery (visualizing the feeling of moving the fingers).\nOrganizing groupings found in the text (also through formal\, melodic\, and rhythmic analysis).\nSinging and feeling intervallic relationships.\nScene memory (rapid eye movements to identify the next position on the key).\nSwitches (slight changes of patterns often resulting in memory slips).\n\nThese tools are helpful\, and while they cannot replace actual keyboard practice\, they are invaluable mental rehearsal devices.
URL:https://enricoelisipiano.com/event/april-4-2024-jakarta-indonesia-elisi-pan-piano-duo-residency-masterclass-at-the-jakarta-conservatory/
END:VEVENT
BEGIN:VEVENT
DTSTART;TZID=Asia/Jakarta:20240405T133000
DTEND;TZID=Asia/Jakarta:20240405T153000
DTSTAMP:20260421T222906
CREATED:20240411T173611Z
LAST-MODIFIED:20240411T173646Z
UID:4575-1712323800-1712331000@enricoelisipiano.com
SUMMARY:April 5\, 2024: Jakarta\, Indonesia. Elisi-Pan Piano Duo Residency. Masterclass at the Jakarta Conservatory
DESCRIPTION:13:30-15:30 – Masterclass (Enrico Elisi)
URL:https://enricoelisipiano.com/event/april-5-2024-jakarta-indonesia-elisi-pan-piano-duo-residency-masterclass-at-the-jakarta-conservatory/
END:VEVENT
BEGIN:VEVENT
DTSTART;TZID=Asia/Jakarta:20240406T130000
DTEND;TZID=Asia/Jakarta:20240406T160000
DTSTAMP:20260421T222906
CREATED:20240411T172656Z
LAST-MODIFIED:20240411T172715Z
UID:4557-1712408400-1712419200@enricoelisipiano.com
SUMMARY:April 6\, 2024: Jakarta\, Indonesia. Elisi-Pan Piano Duo Residency. Masterclass at the Jakarta Conservatory
DESCRIPTION:13:00-16:00 – Masterclass (Enrico Elisi)
URL:https://enricoelisipiano.com/event/april-6-2024-jakarta-indonesia-elisi-pan-piano-duo-residency-masterclass-at-the-jakarta-conservatory/
END:VEVENT
BEGIN:VEVENT
DTSTART;TZID=Asia/Jakarta:20240407T150000
DTEND;TZID=Asia/Jakarta:20240407T170000
DTSTAMP:20260421T222906
CREATED:20240411T120000Z
LAST-MODIFIED:20240411T142206Z
UID:4564-1712502000-1712509200@enricoelisipiano.com
SUMMARY:April 7\, 2024: Jakarta\, Indonesia. Piano Duo Recital with Mengyang Pan at Goethehaus.
DESCRIPTION:Elisi Pan Piano Duo Recital at GoetheHaus\n\n\nProgram:\n\nSonata for Two Pianos\, K. 448 (1781)                                                   \nWolfgang Amadeus Mozart (1756–1791)\n\nAllegro con spirito\nAndante\nMolto allegro\n\n\n\nStudien für den Pedal-Flügel (6 Pieces in Canonic Form) (1845) \nRobert Schumann (1810–1856) \n\nArrangement for two pianos by Claude Debussy (1891)\n\nNo. 1 Pas trop vite\nNo. 3 Andantino – Un peu plus aimé – Tempo I\n\n\nFrom 21 Hungarian Dances\, Book 1 (1868)                   \nJohannes Brahms (1833–1897) \n\n1.     in G Minor: Allegro molto \n2.     in D Minor: Allegro non assai – Vivace \n3.     in F Major: Allegretto\n4.     in F Minor: Poco sostenuto – Vivace\n5.     in F-Sharp Minor: Allegro – Vivace\n\n\nDolly (1894–6)                                                                                 \nGabriel Fauré (1845–1924)\n\n1.     Berceuse\n2.     Mi-a-ou\n3.     Le jardin de Dolly\n4.     Kitty-Valse\n5.     Tendresse\n6.     Le pas espagnoL \n\n\nLiebertango (1974)                                                                    \nAstor Piazzolla (1921–1992)\n\n\nScaramouche\, Suite pour Deux Pianos (1937)                                  \nDarius Milhaud (1892–1974)\n\nI. Vif\nII. Modéré\nIII. Brazileira
URL:https://enricoelisipiano.com/event/april-7-2024-jakarta-indonesia-piano-duo-recital-with-mengyang-pan-at-goethehaus/
LOCATION:Goethehaus\, Pusat Kebudayaan Jerman Jl. Sam Ratulangi 9-15\, Jakarta\, 10350\, Indonesia
END:VEVENT
BEGIN:VEVENT
DTSTART;TZID=America/Chicago:20240420T080000
DTEND;TZID=America/Chicago:20240420T170000
DTSTAMP:20260421T222906
CREATED:20231214T205853Z
LAST-MODIFIED:20240413T230101Z
UID:4454-1713600000-1713632400@enricoelisipiano.com
SUMMARY:April 20\, 2024: Weatherford\, TX. Adjudication of the Weatherford International Piano Competition (Final Round)
DESCRIPTION:Weatherford College is proud to host the 6th Annual Weatherford College International Piano Competition for young pianists. The top three winners will receive cash prizes\, trophies\, certificates\, and masterclasses with judges. The first-place winner will be offered the opportunity to perform a solo recital at WC during the 2024-2025 academic year. \n 
URL:https://enricoelisipiano.com/event/april-20-2024-weatherford-tx-adjudication-of-the-weatherford-international-piano-competition-final-round/
LOCATION:Weatherford College International Competition\, 225 College Park Drive\, Weatherford\, TX\, 76086\, United States
ORGANIZER;CN="Weatherford College International Piano Competition":MAILTO:hsong@wc.edu
END:VEVENT
BEGIN:VEVENT
DTSTART;TZID=America/New_York:20240425T163000
DTEND;TZID=America/New_York:20240425T183000
DTSTAMP:20260421T222906
CREATED:20230829T233543Z
LAST-MODIFIED:20230830T000552Z
UID:4266-1714062600-1714069800@enricoelisipiano.com
SUMMARY:April 25\, 2024 from 4:30pm to 6:30pm: State College\, PA\, USA. Masterclass for Penn State University students and other students presented by the Pennsylvania Music Teacher Association
DESCRIPTION:
URL:https://enricoelisipiano.com/event/april-25-2024-from-430pm-to-630pm-state-college-pa-usa-masterclass-for-penn-state-university-students-and-other-students-presented-by-the-pennsylvania-music-teacher-association/
END:VEVENT
BEGIN:VEVENT
DTSTART;VALUE=DATE:20240428
DTEND;VALUE=DATE:20240429
DTSTAMP:20260421T222906
CREATED:20230815T210739Z
LAST-MODIFIED:20240413T232736Z
UID:4243-1714262400-1714348799@enricoelisipiano.com
SUMMARY:Apr 28\, 2024 at 3 pm: State College\, PA\, USA. Beethoven Concerto Op. 37 with Pennsylvania Chamber Orchestra. New Auditorium at Penn State University.
DESCRIPTION:Apr 28\, 2024\, at 3 pm. Beethoven Concerto Op. 37 with the Pennsylvania Chamber Orchestra led by Maestro Gerardo Edelstein—New Auditorium at Penn State University. \n 
URL:https://enricoelisipiano.com/event/apr-28-2024-at-3-pm-beethoven-concerto-op-37-with-pennsylvania-chamber-orchestra-and-maestro-gerardo-edelstein-new-auditorium-at-penn-state-university/
END:VEVENT
END:VCALENDAR