BEGIN:VCALENDAR
VERSION:2.0
PRODID:-//Enrico Elisi - ECPv6.15.3//NONSGML v1.0//EN
CALSCALE:GREGORIAN
METHOD:PUBLISH
X-ORIGINAL-URL:https://enricoelisipiano.com
X-WR-CALDESC:Events for Enrico Elisi
REFRESH-INTERVAL;VALUE=DURATION:PT1H
X-Robots-Tag:noindex
X-PUBLISHED-TTL:PT1H
BEGIN:VTIMEZONE
TZID:America/New_York
BEGIN:DAYLIGHT
TZOFFSETFROM:-0500
TZOFFSETTO:-0400
TZNAME:EDT
DTSTART:20240310T070000
END:DAYLIGHT
BEGIN:STANDARD
TZOFFSETFROM:-0400
TZOFFSETTO:-0500
TZNAME:EST
DTSTART:20241103T060000
END:STANDARD
END:VTIMEZONE
BEGIN:VTIMEZONE
TZID:Europe/Zurich
BEGIN:DAYLIGHT
TZOFFSETFROM:+0100
TZOFFSETTO:+0200
TZNAME:CEST
DTSTART:20240331T010000
END:DAYLIGHT
BEGIN:STANDARD
TZOFFSETFROM:+0200
TZOFFSETTO:+0100
TZNAME:CET
DTSTART:20241027T010000
END:STANDARD
END:VTIMEZONE
BEGIN:VEVENT
DTSTART;VALUE=DATE:20240713
DTEND;VALUE=DATE:20240721
DTSTAMP:20260421T171114
CREATED:20230829T020245Z
LAST-MODIFIED:20240411T113248Z
UID:4255-1720828800-1721519999@enricoelisipiano.com
SUMMARY:July 13 - July 20\, 2024: Cheltenham\, Gloucestershire\, England\, United Kingdom. The Thinking Pianist Festival.
DESCRIPTION:The Cheltenham Ladies’ College.\nCheltenham Ladies’ College\, often called CLC\, is a renowned independent girls’ school with a rich history dating back to its founding in 1853. The college was established by Dorothea Beale\, an influential figure in women’s education in the 19th century. Beale aimed to provide girls with education on par with the standards of the best boys’ schools of the time. \nThe college began with 82 pupils and was situated in a single house on Bayshill Road\, Cheltenham. However\, it quickly gained a reputation for its high academic standards and innovative approach to education. Under Beale’s leadership\, the college introduced a broad curriculum that included languages\, sciences\, mathematics\, history\, literature\, and more. \nThroughout its history\, Cheltenham Ladies’ College has remained committed to providing a well-rounded education\, emphasizing intellectual development\, character formation\, and personal growth. The college has continuously adapted to societal changes and educational advancements while upholding its core values. \n \nOver the years\, the college has expanded its campus\, adding new buildings and facilities to accommodate the growing number of students. Today\, Cheltenham Ladies’ College is known for its beautiful Victorian architecture\, picturesque grounds\, and state-of-the-art facilities. \nThe college has educated many notable alumnae who have excelled in various fields\, including literature\, politics\, science\, arts\, and business. Cheltenham Ladies’ College maintains its reputation as a leading institution for girls’ education in the United Kingdom and attracts students worldwide. \n \nCore course activities will include; \n\nLessons\, masterclasses\, and workshops with distinguished Faculty\, joined by visiting specialists who will deliver other classes and concerts.\nOpportunities to rehearse and perform ensembles\, i.e.\, duet\, two pianos (3+ hands!)\nCourse concerts with the opportunity to perform with like-minded fellow pianists!\nThe “Teaching is Learning” strand of seminars and workshops offers insight into the multiple synergies of these two activities:  trying to teach any skill is a guaranteed improvement method!\nFundamentals of Piano Pedagogy offers an optional\, parallel mini-course on the basics of teaching. This can be a starting point for early-career piano teachers or a refresher for those with more experience.\n\n 
URL:https://enricoelisipiano.com/event/provisional-dates-july-13-july-20-2024-cheltenham-gloucestershire-england-united-kingdom-the-thinking-pianist-festival/
END:VEVENT
BEGIN:VEVENT
DTSTART;VALUE=DATE:20240715
DTEND;VALUE=DATE:20240731
DTSTAMP:20260421T171114
CREATED:20240413T225341Z
LAST-MODIFIED:20240413T233913Z
UID:4583-1721001600-1722383999@enricoelisipiano.com
SUMMARY:July 15-30\, 2024: Houston\, TX\, USA. Adjudicating the 2024 Spotlight International Piano Competition (online events)
DESCRIPTION:Established during the pandemic in 2021\, the Spotlight Arts & Culture Foundation is a nonprofit organization dedicated to advocating for classical music\, providing prizes to students\, and creating opportunities for musicians and artists to engage with wider audiences. \n\n\nPiano Competition Categories\n\n‍Young Artist Category (ages 18–35)\nSenior Category (Ages 14–17)\nJunior Category (Ages 10–13)\n\n\nPreliminary and Semi-Final Round \nRepertoire Requirements \n\nAll contestants are required to submit a minimum of TWO solo piano pieces\, each\nshowcasing contrasting styles. At least one selection must be from either the Baroque or Classical Period. The total combined duration of all pieces should not exceed the following Maximum allotted time:\n‍\nYoung Artist Category (15 minutes)\nSenior Category (12 minutes)\nJunior Category (8 minutes)\n\nFinal Round\n‍\nRepertoire Requirements\nAll Finalists must submit a high-quality\, NEW recording consisting of a complete program\, including pieces from the previous rounds and additional pieces. The minimum duration of the program for each category must not be less than:\n‍\nYoung Artist Category (25 minutes)\nSenior Category (15 minutes)\nJunior Category (10 minutes)\n\n\n\nRules\n\n\nEligibility Rules\n\n1. This piano competition is open to pianists of any nationality worldwide between the ages of 10 and 35.\n2. Participants in all categories must meet the qualifying age by the date of application. All winners must provide a legal photo ID as proof of age.\n3. A contestant may participate if one of the jurors is their current principal teacher. However\, the juror may not assess this contestant’s performance in the current year.\nVideo Rules\n1. All performances must be from memory.\n2. Contestants should submit recordings of each performance selection without editing or splicing. Evidence of splicing will result in instant disqualification.\n3. Recordings need not be made in a single session.\n4. Lengthy sections of repeats may be omitted.\n5. Performance videos must feature high-quality audio with no distortions. Utilizing separate audio recording equipment is highly recommended.\n6. No changes to the program are permitted once the application has been submitted and received.\n7. Video recordings should display a side view of the contestant\, ensuring clear visibility of the contestant’s profile and hands.\n8. The performance video should not include any introduction or speaking by the contestant. Only titles and composers’ information may be included in the video.\n9. All performance videos must be recorded within SIX months of registration for the 2024 Spotlight International Competitions.\n10. The judges’ decisions are final. They retain the right not to place a winner in any category if they determine that no contestant is sufficiently qualified to receive a prize.
URL:https://enricoelisipiano.com/event/july-15-30-2024-houston-tx-usa-adjudicating-the-2024-spotlight-international-piano-competition-hybrid/
END:VEVENT
BEGIN:VEVENT
DTSTART;VALUE=DATE:20240722
DTEND;VALUE=DATE:20240729
DTSTAMP:20260421T171114
CREATED:20230829T020059Z
LAST-MODIFIED:20230829T020059Z
UID:4253-1721606400-1722211199@enricoelisipiano.com
SUMMARY:July 22-28\, 2024: Altdorf\, Switzerland. Borromeo Chamber Music Festival.
DESCRIPTION:
URL:https://enricoelisipiano.com/event/july-22-28-2024-altdorf-switzerland-borromeo-chamber-music-festival/
LOCATION:Kapelle Kollegium Karl Borromäus\, Gotthardstrasse 59\, Altdorf\, 6460\, Switzerland
ORGANIZER;CN="Borromeo Music Festival":MAILTO:ming@borromeomusicfestival.org
END:VEVENT
BEGIN:VEVENT
DTSTART;TZID=Europe/Zurich:20240724T193000
DTEND;TZID=Europe/Zurich:20240724T213000
DTSTAMP:20260421T171114
CREATED:20240612T042019Z
LAST-MODIFIED:20240612T042019Z
UID:4728-1721849400-1721856600@enricoelisipiano.com
SUMMARY:July 24\, 2024 at 7:30 PM: Altdorf\, Switzerland. Chamber Performance at Borromeo Chamber Music Festival.
DESCRIPTION:Wednesday\, 24 July\, 7:30 PM Kapelle Kollegium Karl Borromäus\, Altdorf \nLei Liang\, “Gobi Gloria” for String Quartet \nClaude Debussy\, Sonata for Cello and Piano (Ben Hong\, Cello – Enrico Elisi\, pianist) \nWolfgang Amadeus Mozart\, Milanese Symphony in C Major K. 157 \nAmy Beach\, Piano Quintet in f-sharp minor\, Op. 67 \nGeorge Gershwin\, Lullaby \n  \n 
URL:https://enricoelisipiano.com/event/july-24-2024-at-730-pm-altdorf-switzerland-chamber-performance-at-borromeo-chamber-music-festival/
LOCATION:Kapelle Kollegium Karl Borromäus\, Gotthardstrasse 59\, Altdorf\, 6460\, Switzerland
ORGANIZER;CN="Borromeo Music Festival":MAILTO:ming@borromeomusicfestival.org
END:VEVENT
END:VCALENDAR