BEGIN:VCALENDAR
VERSION:2.0
PRODID:-//Enrico Elisi - ECPv6.15.3//NONSGML v1.0//EN
CALSCALE:GREGORIAN
METHOD:PUBLISH
X-ORIGINAL-URL:https://enricoelisipiano.com
X-WR-CALDESC:Events for Enrico Elisi
REFRESH-INTERVAL;VALUE=DURATION:PT1H
X-Robots-Tag:noindex
X-PUBLISHED-TTL:PT1H
BEGIN:VTIMEZONE
TZID:America/New_York
BEGIN:DAYLIGHT
TZOFFSETFROM:-0500
TZOFFSETTO:-0400
TZNAME:EDT
DTSTART:20250309T070000
END:DAYLIGHT
BEGIN:STANDARD
TZOFFSETFROM:-0400
TZOFFSETTO:-0500
TZNAME:EST
DTSTART:20251102T060000
END:STANDARD
END:VTIMEZONE
BEGIN:VEVENT
DTSTART;VALUE=DATE:20250213
DTEND;VALUE=DATE:20250220
DTSTAMP:20260421T050359
CREATED:20250106T142412Z
LAST-MODIFIED:20250108T160248Z
UID:5020-1739404800-1740009599@enricoelisipiano.com
SUMMARY:February 13-19\, 2025: Namhae\, South Korea. Namhae International Piano Academy & Festival (Masterclasses\, Individual Lessons\, Piano Duo Recital)
DESCRIPTION:Namhae is Korea’s fifth largest island\, renowned for its slower pace of life\, beautiful sea\, and stunning natural landscapes. The drive around the island is considered one of the most scenic routes in Korea\, featuring rugged ocean views\, dense forests\, quaint fishing villages untouched by tourism\, and picturesque paddy fields. The entire island is truly a hidden gem. Namhae is surrounded by 79 smaller islands\, providing unique ocean views. Additionally\, it lies at the heart of the Hallyeohaesang Marine National Park\, which extends from Geojedo Island in South Gyeongsang Province (Gyeongsangnam-do) to Yeosu in South Jeolla Province (Jeollanam-do). While Namhae is often associated with the ocean and its crystal clear waters\, the island was historically known as Hwajeon\, meaning “fields of flowers.” During spring\, the mountains are adorned with beautiful and colorful blooms. Namhae also hosts several exciting events\, including the Bomulseom Mijo Anchovy Festival\, Oktoberfest in the German Village\, and the Admiral Yi Sun-sin Festival. \n \nGuide to Namhae \nPhotos
URL:https://enricoelisipiano.com/event/february-13-19-2025-namhae-south-korea-namhae-international-piano-academy-festival-masterclasses-individual-lessons-piano-duo-recital/
LOCATION:Namhae\, 74-19\, Dongbu-daero 1122beon-gil\, Samdong-myeon\, Namhae-gun\, Gyeongsangnam-do\, Korea\, Republic of
END:VEVENT
END:VCALENDAR