BEGIN:VCALENDAR
VERSION:2.0
PRODID:-//Enrico Elisi - ECPv6.15.3//NONSGML v1.0//EN
CALSCALE:GREGORIAN
METHOD:PUBLISH
X-WR-CALNAME:Enrico Elisi
X-ORIGINAL-URL:https://enricoelisipiano.com
X-WR-CALDESC:Events for Enrico Elisi
REFRESH-INTERVAL;VALUE=DURATION:PT1H
X-Robots-Tag:noindex
X-PUBLISHED-TTL:PT1H
BEGIN:VTIMEZONE
TZID:America/Chicago
BEGIN:DAYLIGHT
TZOFFSETFROM:-0600
TZOFFSETTO:-0500
TZNAME:CDT
DTSTART:20250309T080000
END:DAYLIGHT
BEGIN:STANDARD
TZOFFSETFROM:-0500
TZOFFSETTO:-0600
TZNAME:CST
DTSTART:20251102T070000
END:STANDARD
END:VTIMEZONE
BEGIN:VTIMEZONE
TZID:America/New_York
BEGIN:DAYLIGHT
TZOFFSETFROM:-0500
TZOFFSETTO:-0400
TZNAME:EDT
DTSTART:20250309T070000
END:DAYLIGHT
BEGIN:STANDARD
TZOFFSETFROM:-0400
TZOFFSETTO:-0500
TZNAME:EST
DTSTART:20251102T060000
END:STANDARD
END:VTIMEZONE
BEGIN:VEVENT
DTSTART;TZID=America/Chicago:20250308T143000
DTEND;TZID=America/Chicago:20250308T160000
DTSTAMP:20260421T033112
CREATED:20240907T195400Z
LAST-MODIFIED:20241113T140048Z
UID:4903-1741444200-1741449600@enricoelisipiano.com
SUMMARY:March 8\, 2025 at 2:30 pm: Stillwater\, Oklahoma. Recital at the McKnight Center for the Performing Arts\, Recital Hall
DESCRIPTION:
URL:https://enricoelisipiano.com/event/march-7-2025-at-7-pm-recital-at-the-mcknight-center-for-the-performing-arts-in-stillwater-oklahoma/
LOCATION:Greenwood School of Music at Oklahoma State University\, 132 Seretean Ctr\, Stillwater\, OK\, 74078\, United States
ORGANIZER;CN="Greenwood School of Music at Oklahoma State University":MAILTO:music@okstate.edu
END:VEVENT
BEGIN:VEVENT
DTSTART;VALUE=DATE:20250311
DTEND;VALUE=DATE:20250313
DTSTAMP:20260421T033112
CREATED:20240514T030608Z
LAST-MODIFIED:20250315T223321Z
UID:4635-1741651200-1741823999@enricoelisipiano.com
SUMMARY:March 11-12\, 2025: Fort Myers\, FL\, USA. Solo Recital and Masterclass at Florida Gulf Coast University\, Bower School of Music
DESCRIPTION:
URL:https://enricoelisipiano.com/event/march-11-12-2025-fort-myers-fl-usa-solo-recital-and-masterclass-at-florida-gulf-coast-university-bower-school-of-music/
LOCATION:Florida Gulf Coast University\, 10501 FGCU Boulevard South\, Fort Myers\, FL\, 33965-6565\, United States
ORGANIZER;CN="Florida Gulf Coast University":MAILTO:mbaron@fgcu.edu
END:VEVENT
BEGIN:VEVENT
DTSTART;VALUE=DATE:20250324
DTEND;VALUE=DATE:20250325
DTSTAMP:20260421T033112
CREATED:20250315T220244Z
LAST-MODIFIED:20250315T220244Z
UID:5046-1742774400-1742860799@enricoelisipiano.com
SUMMARY:March 24\, 2025: China\, Beijing\, China Conservatory (中国音乐学院国音堂音乐厅): Masterclass
DESCRIPTION:
URL:https://enricoelisipiano.com/event/march-24-2025-china-beijing-china-conservatory-%e4%b8%ad%e5%9b%bd%e9%9f%b3%e4%b9%90%e5%ad%a6%e9%99%a2%e5%9b%bd%e9%9f%b3%e5%a0%82%e9%9f%b3%e4%b9%90%e5%8e%85-masterclass/
END:VEVENT
BEGIN:VEVENT
DTSTART;VALUE=DATE:20250325
DTEND;VALUE=DATE:20250326
DTSTAMP:20260421T033112
CREATED:20250315T220521Z
LAST-MODIFIED:20250315T220521Z
UID:5049-1742860800-1742947199@enricoelisipiano.com
SUMMARY:March 25\, 2025: China\, Beijing\, China Conservatory (中国音乐学院国音堂音乐厅): Masterclass
DESCRIPTION:
URL:https://enricoelisipiano.com/event/march-25-2025-china-beijing-china-conservatory-%e4%b8%ad%e5%9b%bd%e9%9f%b3%e4%b9%90%e5%ad%a6%e9%99%a2%e5%9b%bd%e9%9f%b3%e5%a0%82%e9%9f%b3%e4%b9%90%e5%8e%85-masterclass/
END:VEVENT
BEGIN:VEVENT
DTSTART;VALUE=DATE:20250326
DTEND;VALUE=DATE:20250327
DTSTAMP:20260421T033112
CREATED:20250315T220629Z
LAST-MODIFIED:20250315T220629Z
UID:5052-1742947200-1743033599@enricoelisipiano.com
SUMMARY:March 26\, 2025: China\, Beijing\, China Conservatory (中国音乐学院国音堂音乐厅): Masterclass
DESCRIPTION:
URL:https://enricoelisipiano.com/event/march-26-2025-china-beijing-china-conservatory-%e4%b8%ad%e5%9b%bd%e9%9f%b3%e4%b9%90%e5%ad%a6%e9%99%a2%e5%9b%bd%e9%9f%b3%e5%a0%82%e9%9f%b3%e4%b9%90%e5%8e%85-masterclass/
END:VEVENT
BEGIN:VEVENT
DTSTART;VALUE=DATE:20250327
DTEND;VALUE=DATE:20250328
DTSTAMP:20260421T033112
CREATED:20250315T220702Z
LAST-MODIFIED:20250315T220702Z
UID:5053-1743033600-1743119999@enricoelisipiano.com
SUMMARY:March 27\, 2025: China\, Beijing\, China Conservatory (中国音乐学院国音堂音乐厅): Masterclass
DESCRIPTION:
URL:https://enricoelisipiano.com/event/march-27-2025-china-beijing-china-conservatory-%e4%b8%ad%e5%9b%bd%e9%9f%b3%e4%b9%90%e5%ad%a6%e9%99%a2%e5%9b%bd%e9%9f%b3%e5%a0%82%e9%9f%b3%e4%b9%90%e5%8e%85-masterclass/
END:VEVENT
BEGIN:VEVENT
DTSTART;VALUE=DATE:20250328
DTEND;VALUE=DATE:20250329
DTSTAMP:20260421T033112
CREATED:20250315T221627Z
LAST-MODIFIED:20250315T222721Z
UID:5062-1743120000-1743206399@enricoelisipiano.com
SUMMARY:March 28\, 2025: China\, Beijing\, China Conservatory\, Guoyintang Concert Hall (中国音乐学院国音堂音乐厅): “回溯”—世纪之交的音乐之法国篇 “Retrospect”—The French Chapter of Turn-of-the-Century Music: Francis Poulenc (1899-1963) Concerto for Two Pianos\, FP 61.
DESCRIPTION:Program: \n“回溯”—世纪之交的音乐之法国篇 __ “Retrospect”—The French Chapter of Turn-of-the-Century Music \nDarius Milhaud (1892-1974)\nSérénade\, Op. 62 \nFrancis Poulenc (1899-1963)\nConcerto for Two Pianos\, FP 61 \nIntermission \nVincent D’Indy (1851-1931)\nDiptyque méditerranéen\, Op. 87 \nClaude Debussy (1862-1918)\nIberia\, Images pour orchestra \n  \n_____________ \n钢琴 | Piano: 潘孟阳 (Pan Mengyang)\n钢琴 | Piano: Enrico Elisi \n时间 | Time: 2025年3月28日 (March 28\, 2025) \n地点 | Location: 中国音乐学院国音堂音乐厅 (China Conservatory\, Guoyintang Concert Hall)
URL:https://enricoelisipiano.com/event/march-28-2025-china-beijing-china-conservatory-guoyintang-concert-hall-%e4%b8%ad%e5%9b%bd%e9%9f%b3%e4%b9%90%e5%ad%a6%e9%99%a2%e5%9b%bd%e9%9f%b3%e5%a0%82%e9%9f%b3%e4%b9%90%e5%8e%85/
END:VEVENT
END:VCALENDAR